BEGIN:VCALENDAR
VERSION:2.0
PRODID:-//ChamberMaster//Event Calendar 2.0//EN
METHOD:PUBLISH
X-PUBLISHED-TTL:P3D
REFRESH-INTERVAL:P3D
CALSCALE:GREGORIAN
BEGIN:VEVENT
DTSTART:20131009T153000Z
DTEND:20131009T170000Z
X-MICROSOFT-CDO-ALLDAYEVENT:FALSE
SUMMARY:Safety Council Monthly Meeting 10/09/13
DESCRIPTION:The Ashland Area Safety Council Meets monthly on the 2nd Weds. of each month.\n\n\n\nElectricity Doesn't Understand "Tag You're It!" - But YOU Should! Lock Out / Tag Out Standards\n\nSpeaker: Rob Powell\, Mansfield Service Office\, DS&H Industrial Safety Consultant Specialist - Employer Management Services\n\n\n\nLockout-tagout (LOTO) or lock and tag is a safety procedure which is used in industry and research settings to ensure that dangerous machines are properly shut off and not started up again prior to the completion of maintenance or servicing work. It requires that hazardous power sources be "isolated and rendered inoperative" before any repair procedure is started. "Lock and tag" works in conjunction with a lock usually locking the device or the power source with the hasp\, and placing it in such a position that no hazardous power sources can be turned on. The procedure requires that a tag be affixed to the locked device indicating that it should not be turned on.
X-ALT-DESC;FMTTYPE=text/html:The Ashland Area Safety Council Meets monthly on the 2nd Weds. of each month.<br />\n<br />\n<span style="color: rgb(255\, 51\, 0)\;"><strong>Electricity Doesn&#39\;t Understand &quot\;Tag You&#39\;re It!&quot\; - But YOU Should! Lock Out / Tag Out Standards</strong></span><br />\n<em><span style="color: rgb(165\, 42\, 42)\;"><span style="font-size: 11px\;">Speaker: Rob Powell\, Mansfield Service Office\, DS&amp\;H Industrial Safety Consultant Specialist - Employer Management Services</span></span></em><br />\n<br />\n<span style="font-size: 11px\;">Lockout-tagout (LOTO) or lock and tag is a safety procedure which is used in industry and research settings to ensure that dangerous machines are properly shut off and not started up again prior to the completion of maintenance or servicing work. It requires that hazardous power sources be &quot\;isolated and rendered inoperative&quot\; before any repair procedure is started. &quot\;Lock and tag&quot\; works in conjunction with a lock usually locking the device or the power source with the hasp\, and placing it in such a position that no hazardous power sources can be turned on. The procedure requires that a tag be affixed to the locked device indicating that it should not be turned on. </span><br />\n
LOCATION:Samaritan on Main\, 663 E. Main Street\, Ashland\, OH 44805
UID:e.1651.601
SEQUENCE:3
DTSTAMP:20260423T021442Z
URL:https://members.ashlandoh.com/events/details/safety-council-monthly-meeting-10-09-13-10-09-2013-601
END:VEVENT

END:VCALENDAR
