BEGIN:VCALENDAR
VERSION:2.0
PRODID:-//ChamberMaster//Event Calendar 2.0//EN
METHOD:PUBLISH
X-PUBLISHED-TTL:P3D
REFRESH-INTERVAL:P3D
CALSCALE:GREGORIAN
BEGIN:VEVENT
DTSTART:20151015T033000Z
DTEND:20151014T170000Z
X-MICROSOFT-CDO-ALLDAYEVENT:FALSE
SUMMARY:Safety Council Monthly Meeting 10-14-15
DESCRIPTION:Guardians of the Machine Galaxy ready to defend all evils...\n\nOSHA Machine Guarding Standard\n\nThe presentation will focus on basic requirements of OSHA's Machine Guarding and Hazardous Energy Control Regulations. It will also include examples of deficiencies found with these programs\, and solutions for corrective actions.\n\nMoving machine parts have the potential to cause severe workplace injuries\, such as crushed fingers or hands\, amputations\, burns\, or blindness. Safeguards are essential for protecting workers from these preventable injuries. Any machine part\, function\, or process that may cause injury must be safeguarded. \n\n \n\n\n\nSpeaker: Joe Margetiak\, Compliance Safety and Health Officer with the U.S. Department of Labor\, Occupational Safety and Health Administration in the Toledo\, Ohio area office.
X-ALT-DESC;FMTTYPE=text/html:<span style="font-weight:bold\;language:en-US\;"><span style="color:black\;"><span style="font-family:calibri\;"><span style="font-size:18.0pt\;">Guardians of the Machine Galaxy ready to defend all evils...</span></span></span></span><br />\n<span style="font-weight:bold\;language:en-US\;"><span style="color:black\;"><span style="font-family:calibri\;"><span style="font-size:14.0pt\;">OSHA Machine Guarding Standard</span></span></span></span><br />\n<span style="font-weight:bold\;language:en-US\;"><span style="color:black\;"><span style="font-family:calibri\;"><span style="font-size:11.0pt\;">The presentation will focus on basic requirements of OSHA&rsquo\;s Machine Guarding and Hazardous Energy Control Regulations. It will also include examples of deficiencies found with these programs\, and solutions for corrective actions.</span></span></span></span><br />\n<span style="language:en-US\;"><span style="font-family:calibri\;"><span style="font-size:11.0pt\;">Moving machine parts have the potential to cause severe workplace injuries\, such as crushed fingers or hands\, amputations\, burns\, or blindness. Safeguards are essential for protecting workers from these preventable injuries. Any machine part\, function\, or process that may cause injury must be safeguarded. </span></span></span><br />\n&nbsp\;<br />\n<br />\nSpeaker: Joe Margetiak\, Compliance Safety and Health Officer with the U.S. Department of Labor\, Occupational Safety and Health Administration in the Toledo\, Ohio area office.&nbsp\;<br />\n&nbsp\;
LOCATION:Samaritan On Main 663 E Main St.\, Ashland OH 44805
UID:e.1651.2383
SEQUENCE:3
DTSTAMP:20260421T112229Z
URL:https://members.ashlandoh.com/events/details/safety-council-monthly-meeting-10-14-15-10-14-2015-2383
END:VEVENT

END:VCALENDAR
