BEGIN:VCALENDAR
VERSION:2.0
PRODID:-//ChamberMaster//Event Calendar 2.0//EN
METHOD:PUBLISH
X-PUBLISHED-TTL:P3D
REFRESH-INTERVAL:P3D
CALSCALE:GREGORIAN
BEGIN:VEVENT
DTSTART:20151111T163000Z
DTEND:20151111T180000Z
X-MICROSOFT-CDO-ALLDAYEVENT:FALSE
SUMMARY:Safety Council Monthly Meeting 11-11-15
DESCRIPTION:Don't Leave Me Hanging!\n\nFall Protection \n\n\n	Rescue awareness\n	Suspension trauma awareness\n	Proper fall clearance calculation for shock absorbing lanyards and self retracting lifelines\n	Hardware compatibility\n	Updates to the ANSI Z359 General Industry Fall Protection Standard\n\n \n\nSpeaker:  Dave Gallegly\, Fall Protection Specialist \n\nDave Gallegly is a Fall Protection Specialist for Miller Fall Protection which is now owned by Honeywell.  He works closely with Honeywell's network of safety\n\ndistributors to provide fall protection solutions\, training and products to end users in Ohio. Dave has been the Miller Fall Protection Specialist in Ohio since April of 2006.
X-ALT-DESC;FMTTYPE=text/html:<span style="font-weight:bold\;language:en-US\;"><span style="color:black\;"><span style="font-family:calibri\;"><span style="font-size:18.0pt\;">Don&rsquo\;t Leave Me Hanging!<br />\nFall Protection </span></span></span></span>\n\n<ul>\n	<li>R<span style="language:en-US\;"><span style="font-family:calibri\;"><span style="font-size:14.0pt\;">escue awareness</span></span></span></li>\n	<li><span style="language:en-US\;"><span style="font-family:calibri\;"><span style="font-size:14.0pt\;">Suspension trauma awareness</span></span></span></li>\n	<li><span style="language:en-US\;"><span style="font-family:calibri\;"><span style="font-size:14.0pt\;">Proper fall clearance calculation for shock absorbing lanyards and self retracting lifelines</span></span></span></li>\n	<li><span style="language:en-US\;"><span style="font-family:calibri\;"><span style="font-size:14.0pt\;">Hardware compatibility</span></span></span></li>\n	<li><span style="language:en-US\;"><span style="font-family:calibri\;"><span style="font-size:14.0pt\;">Updates to the ANSI Z359 General Industry Fall Protection Standard</span></span></span></li>\n</ul>\n&nbsp\;<br />\nSpeaker:&nbsp\; <span style="font-weight:bold\;language:en-US\;"><span style="color:black\;"><span style="font-family:calibri\;"><span style="font-size:16.0pt\;">Dave Gallegly\, Fall Protection Specialist </span></span></span></span><br />\n<span style="language:en-US\;"><span style="font-family:calibri\;"><span style="font-size:14.0pt\;">Dave Gallegly is a Fall Protection Specialist for Miller Fall Protection which is now owned by Honeywell.&nbsp\; He works closely with Honeywell&rsquo\;s network of safety<br />\ndistributors to provide fall protection solutions\, training and products to end users in Ohio. Dave has been the Miller Fall Protection Specialist in Ohio since April of 2006.</span></span></span><br />\n&nbsp\;<br />\n&nbsp\;
LOCATION:Samaritan On Main 663 E Main St.\, Ashland OH 44805
UID:e.1651.2384
SEQUENCE:3
DTSTAMP:20260421T073121Z
URL:https://members.ashlandoh.com/events/details/safety-council-monthly-meeting-11-11-15-11-11-2015-2384
END:VEVENT

END:VCALENDAR
