BEGIN:VCALENDAR
VERSION:2.0
PRODID:-//ChamberMaster//Event Calendar 2.0//EN
METHOD:PUBLISH
X-PUBLISHED-TTL:P3D
REFRESH-INTERVAL:P3D
CALSCALE:GREGORIAN
BEGIN:VEVENT
DTSTART:20131211T163000Z
DTEND:20131211T180000Z
X-MICROSOFT-CDO-ALLDAYEVENT:FALSE
SUMMARY:Safety Council Monthly Meeting 12/11/13
DESCRIPTION:The Ashland Area Safety Council Meets monthly on the 2nd Weds. of each month.\n\n\n\nJack be nimble\, Jack be quick - but not that quick\, accidents CAN happen!\n\nSpeaker: Chad Positano\, CSP\, CHMM Assistant Area Director - OSHA\n\n\n\nContractor Safety Programs: This presentation will focus on strategies for managing contractor safety programs for host employers\, regulatory requirements involved\, and an overview of OSHA's multi-employer worksite policy.
X-ALT-DESC;FMTTYPE=text/html:The Ashland Area Safety Council Meets monthly on the 2nd Weds. of each month.<br />\n<br />\n<span style="color:#ff3300\;"><strong>Jack be nimble\, Jack be quick - but not that quick\, accidents CAN happen!</strong></span><br />\n<span style="color:#b22222\;"><em><span style="font-size: 11px\;">Speaker: Chad Positano\, CSP\, CHMM Assistant Area Director - OSHA</span></em></span><br />\n<br />\n<strong>Contractor Safety Programs: </strong>This presentation will focus on strategies for managing contractor safety programs for host employers\, regulatory requirements involved\, and an overview of OSHA&#39\;s multi-employer worksite policy.
LOCATION:Samaritan on Main\, 663 E. Main Street\, Ashland\, OH 44805
UID:e.1651.603
SEQUENCE:3
DTSTAMP:20260422T225848Z
URL:https://members.ashlandoh.com/events/details/safety-council-monthly-meeting-12-11-13-12-11-2013-603
END:VEVENT

END:VCALENDAR
