BEGIN:VCALENDAR
VERSION:2.0
PRODID:-//ChamberMaster//Event Calendar 2.0//EN
METHOD:PUBLISH
X-PUBLISHED-TTL:P3D
REFRESH-INTERVAL:P3D
CALSCALE:GREGORIAN
BEGIN:VEVENT
DTSTART;VALUE=DATE:20151209
DTEND;VALUE=DATE:20151210
TRANSP:TRANSPARENT
X-MICROSOFT-CDO-ALLDAYEVENT:TRUE
SUMMARY:Safety Council Monthly Meeting 12-9-15
DESCRIPTION:SAFETY COUNCIL MONTHLY MEETING 12-9-15\n\nTitle: Being a busy-body is something to excel at!\n\nSpeaker: Mark Rafeld - Ashland County EMS
X-ALT-DESC;FMTTYPE=text/html:<strong><span style="color:#A52A2A\;">SAFETY COUNCIL MONTHLY MEETING 12-9-15</span><br />\nTitle: </strong>Being a busy-body is something to excel at<strong>!<br />\n<em>Speaker: </em></strong><em>Mark Rafeld - Ashland County EMS</em>
LOCATION:Samaritan On Main 663 E Main St.\, Ashland OH 44805
UID:e.1651.2385
SEQUENCE:3
DTSTAMP:20260421T055920Z
URL:https://members.ashlandoh.com/events/details/safety-council-monthly-meeting-12-9-15-12-09-2015-2385
END:VEVENT

END:VCALENDAR
