BEGIN:VCALENDAR
VERSION:2.0
PRODID:-//ChamberMaster//Event Calendar 2.0//EN
METHOD:PUBLISH
X-PUBLISHED-TTL:P3D
REFRESH-INTERVAL:P3D
CALSCALE:GREGORIAN
BEGIN:VEVENT
DTSTART;VALUE=DATE:20160210
DTEND;VALUE=DATE:20160211
TRANSP:TRANSPARENT
X-MICROSOFT-CDO-ALLDAYEVENT:TRUE
SUMMARY:Safety Council Monthly Meeting 2-10-16
DESCRIPTION:Title: Creative Thinking Isn't Always Good for Safety!\n\nSpeaker: Laura Smith - Industrial Safety Consultant\, BWC
X-ALT-DESC;FMTTYPE=text/html:<strong>Title: Creative Thinking Isn&#39\;t Always Good for Safety!</strong><br />\nSpeaker: Laura Smith - Industrial Safety Consultant\, BWC
LOCATION:Samaritan On Main 663 E Main St.\, Ashland OH 44805
UID:e.1651.2387
SEQUENCE:3
DTSTAMP:20260421T040425Z
URL:https://members.ashlandoh.com/events/details/safety-council-monthly-meeting-2-10-16-02-10-2016-2387
END:VEVENT

END:VCALENDAR
