BEGIN:VCALENDAR
VERSION:2.0
PRODID:-//ChamberMaster//Event Calendar 2.0//EN
METHOD:PUBLISH
X-PUBLISHED-TTL:P3D
REFRESH-INTERVAL:P3D
CALSCALE:GREGORIAN
BEGIN:VEVENT
DTSTART:20150211T163000Z
DTEND:20150211T180000Z
X-MICROSOFT-CDO-ALLDAYEVENT:FALSE
SUMMARY:Safety Council Monthly Meeting 2/11/15
DESCRIPTION:Get Your Head Out of the Sand - Drugs DO Exist in Ashland... Illegal Drugs What to look for in your workplace\n\nIllegal drugs and chemicals as well as prescription drug abuse is a widespread problem that affects every citizen in our county.  In addition\, this problem can severely impact your plant safety as well as affecting your bottom line.  Plan on attending this luncheon to learn how you may be able to identify illegal drug use and what you can do about it.\n\n \n\nOfficer Brian Evans with\n\nAshland Police Department's Drug Enforcement Department\n\nAshland County Detective\n\nDave Roane
X-ALT-DESC;FMTTYPE=text/html:<span style="font-weight:bold\;language:en-US\;"><span style="color:black\;"><span style="font-family:calibri\;"><span style="font-size:20.0pt\;">Get Your Head Out of the Sand - Drugs DO Exist in Ashland</span></span></span></span><span style="font-weight:bold\;language:en-US\;"><span style="color:black\;"><span style="font-family:calibri\;"><span style="font-size:16.0pt\;">... Illegal Drugs&mdash\;What to look for in your workplace</span></span></span></span><br />\n<span style="language:en-US\;"><span style="color:black\;"><span style="font-family:calibri\;">Illegal drugs and chemicals as well as prescription drug abuse is a widespread problem that affects every citizen in our county.&nbsp\; In addition\, this problem can severely impact your plant safety as well as affecting your bottom line.&nbsp\; Plan on attending this luncheon to learn how you may be able to identify illegal drug use and what you can do about it.</span></span></span><br />\n&nbsp\;<br />\n<span style="font-weight:bold\;language:en-US\;"><span style="font-family:calibri\;"><span style="font-size:18.0pt\;">Officer Brian Evans with<br />\nAshland Police Department&rsquo\;s Drug Enforcement Department</span></span></span><br />\n<span style="font-weight:bold\;language:en-US\;"><span style="font-family:calibri\;"><span style="font-size:18.0pt\;">Ashland County Detective<br />\nDave Roane </span></span></span><br />\n&nbsp\;<br />\n&nbsp\;
LOCATION:Samaritan On Main\, 663\, E. Main St.\, Ashland OH 44805
UID:e.1651.814
SEQUENCE:3
DTSTAMP:20260422T012002Z
URL:https://members.ashlandoh.com/events/details/safety-council-monthly-meeting-2-11-15-02-11-2015-814
END:VEVENT

END:VCALENDAR
