BEGIN:VCALENDAR
VERSION:2.0
PRODID:-//ChamberMaster//Event Calendar 2.0//EN
METHOD:PUBLISH
X-PUBLISHED-TTL:P3D
REFRESH-INTERVAL:P3D
CALSCALE:GREGORIAN
BEGIN:VEVENT
DTSTART:20140212T163000Z
DTEND:20140212T180000Z
X-MICROSOFT-CDO-ALLDAYEVENT:FALSE
SUMMARY:Safety Council Monthly Meeting 2/12/14
DESCRIPTION:The Ashland Area Safety Council Meets monthly on the 2nd Weds. of each month.\n\n\n\nLicense & Registration Please... Are Your Drivers Prepared?\n\nSpeakers: State Highway Patrol Troopers - Tpr. Starr\, Tpr. Swart\, LLI Rarick and LLI Reffey\n\n\n\nCommercial Inspections\, Logbooks and Overloads.\n\nTrooper Swart will bring her civilian scales team along to demonstrate the weighing of a commercial motor vehicle.\n\n\n\nSpecial Thanks to Valley Transportation for providing the Vehicle for the Demonstration!
X-ALT-DESC;FMTTYPE=text/html:The Ashland Area Safety Council Meets monthly on the 2nd Weds. of each month.<br />\n<br />\n<span style="color:#b22222\;"><strong>License &amp\; Registration Please... Are Your Drivers Prepared?</strong></span><br />\n<span style="color:#b22222\;"><span style="font-size: 11px\;"><em>Speakers: State Highway Patrol Troopers - Tpr. Starr\, Tpr. Swart\, LLI Rarick and LLI Reffey</em></span></span><br />\n<br />\n<strong>Commercial Inspections\, Logbooks and Overloads.</strong><br />\nTrooper Swart will bring her civilian scales team along to demonstrate the weighing of a commercial motor vehicle.<br />\n<br />\n<strong>Special Thanks to Valley Transportation for providing the Vehicle for the Demonstration!&nbsp\; </strong><br />\n
LOCATION:LOCATION CHANGE! Ashland Salvation Army Kroc Center 527 E. Liberty Street\, Ashland\, OH 44805 NOTICE: If Ashland City Schools Close - the Kroc Center closes\, in this situation the back up plan = go to the YMCA Community Room\, 207 Miller St. Catered by Fergy's on Main
UID:e.1651.605
SEQUENCE:3
DTSTAMP:20260422T192311Z
URL:https://members.ashlandoh.com/events/details/safety-council-monthly-meeting-2-12-14-02-12-2014-605
END:VEVENT

END:VCALENDAR
