BEGIN:VCALENDAR
VERSION:2.0
PRODID:-//ChamberMaster//Event Calendar 2.0//EN
METHOD:PUBLISH
X-PUBLISHED-TTL:P3D
REFRESH-INTERVAL:P3D
CALSCALE:GREGORIAN
BEGIN:VEVENT
DTSTART:20150311T153000Z
DTEND:20150311T170000Z
X-MICROSOFT-CDO-ALLDAYEVENT:FALSE
SUMMARY:Safety Council Monthly Meeting 3/11/15
DESCRIPTION:Building a Drug Free Workplace 2.0\n\n \n\nJustin Van Stee\, Takedown Tactical
X-ALT-DESC;FMTTYPE=text/html:<span style="font-weight:bold\;language:en-US\;"><span style="color:black\;"><span style="font-family:calibri\;"><span style="font-size:20.0pt\;">Building a Drug Free Workplace 2.0</span></span></span></span><br />\n&nbsp\;<br />\nJustin Van Stee\, Takedown Tactical
LOCATION:Samaritan On Main\, 663 E. Main St.\, Ashland\, OH
UID:e.1651.815
SEQUENCE:3
DTSTAMP:20260421T232519Z
URL:https://members.ashlandoh.com/events/details/safety-council-monthly-meeting-3-11-15-03-11-2015-815
END:VEVENT

END:VCALENDAR
