BEGIN:VCALENDAR
VERSION:2.0
PRODID:-//ChamberMaster//Event Calendar 2.0//EN
METHOD:PUBLISH
X-PUBLISHED-TTL:P3D
REFRESH-INTERVAL:P3D
CALSCALE:GREGORIAN
BEGIN:VEVENT
DTSTART:20140312T153000Z
DTEND:20140312T170000Z
X-MICROSOFT-CDO-ALLDAYEVENT:FALSE
SUMMARY:Safety Council Monthly Meeting 3/12/14
DESCRIPTION:The Ashland Area Safety Council Meets monthly on the 2nd Weds. of each month.\n\n\n\nHelp is On The Way!\n\nSpeakers: Mark Rafeld - Ashland County EMA and Steve Carroll - Samaritan Regional Health System\n\n\n\nAshland County Emergency Preparedness Program:\n\nDid you know that the Ashland County Local Emergency Planning Committee (ACLEPC) is there to prepare hazardous materials emergency plans that indicate the facilities that use\, produce\, or store hazardous substances that are present in Ashland County.
X-ALT-DESC;FMTTYPE=text/html:The Ashland Area Safety Council Meets monthly on the 2nd Weds. of each month.<br />\n<br />\n<span style="font-size:14px\;"><span style="color: rgb(255\, 51\, 0)\;"><strong>Help is On The Way!</strong></span></span><br />\n<span style="color:#b22222\;"><em><span style="font-size: 11px\;">Speakers: Mark Rafeld - Ashland County EMA and Steve Carroll - Samaritan Regional Health System</span></em></span><br />\n<br />\n<strong>Ashland County Emergency Preparedness Program:</strong><br />\nDid you know that the Ashland County Local Emergency Planning Committee (ACLEPC) is there to prepare hazardous materials emergency plans that indicate the facilities that use\, produce\, or store hazardous substances that are present in Ashland County.
LOCATION:Samaritan on Main\, 663 E. Main Street\, Ashland\, OH 44805
UID:e.1651.606
SEQUENCE:3
DTSTAMP:20260422T192310Z
URL:https://members.ashlandoh.com/events/details/safety-council-monthly-meeting-3-12-14-03-12-2014-606
END:VEVENT

END:VCALENDAR
