BEGIN:VCALENDAR
VERSION:2.0
PRODID:-//ChamberMaster//Event Calendar 2.0//EN
METHOD:PUBLISH
X-PUBLISHED-TTL:P3D
REFRESH-INTERVAL:P3D
CALSCALE:GREGORIAN
BEGIN:VEVENT
DTSTART;VALUE=DATE:20160309
DTEND;VALUE=DATE:20160310
TRANSP:TRANSPARENT
X-MICROSOFT-CDO-ALLDAYEVENT:TRUE
SUMMARY:Safety Council Monthly Meeting 3-9-16
DESCRIPTION:Title: Make the Switch! Eating Right Never Tasted So Good!\n\nSpeaker: Registered Dietitian with UH Samaritan Medical Center
X-ALT-DESC;FMTTYPE=text/html:<strong>Title: Make the Switch! Eating Right Never Tasted So Good!</strong><br />\nSpeaker: Registered Dietitian with UH Samaritan Medical Center
LOCATION:Samaritan On Main 663 E Main St.\, Ashland OH 44805
UID:e.1651.2388
SEQUENCE:3
DTSTAMP:20260421T021528Z
URL:https://members.ashlandoh.com/events/details/safety-council-monthly-meeting-3-9-16-03-09-2016-2388
END:VEVENT

END:VCALENDAR
