BEGIN:VCALENDAR
VERSION:2.0
PRODID:-//ChamberMaster//Event Calendar 2.0//EN
METHOD:PUBLISH
X-PUBLISHED-TTL:P3D
REFRESH-INTERVAL:P3D
CALSCALE:GREGORIAN
BEGIN:VEVENT
DTSTART;VALUE=DATE:20160413
DTEND;VALUE=DATE:20160414
TRANSP:TRANSPARENT
X-MICROSOFT-CDO-ALLDAYEVENT:TRUE
SUMMARY:Safety Council Monthly Meeting 4-13-16
DESCRIPTION:Safety Council Awards / CEO Event\n\nTopic: The View from the Top - An Ashland Update\n\nSpeaker: Jim Wyse\, BWC NW Regional Business Development Manager
X-ALT-DESC;FMTTYPE=text/html:<strong><span style="font-size:14px\;">Safety Council Awards / CEO Event</span><br />\n<span style="color:#A52A2A\;">Topic: The View from the Top - An Ashland Update</span></strong><br />\nSpeaker: Jim Wyse\, BWC NW Regional Business Development Manager
LOCATION:Samaritan On Main 663 E Main St.\, Ashland OH 44805
UID:e.1651.2389
SEQUENCE:3
DTSTAMP:20260421T002731Z
URL:https://members.ashlandoh.com/events/details/safety-council-monthly-meeting-4-13-16-04-13-2016-2389
END:VEVENT

END:VCALENDAR
