BEGIN:VCALENDAR
VERSION:2.0
PRODID:-//ChamberMaster//Event Calendar 2.0//EN
METHOD:PUBLISH
X-PUBLISHED-TTL:P3D
REFRESH-INTERVAL:P3D
CALSCALE:GREGORIAN
BEGIN:VEVENT
DTSTART:20150408T153000Z
DTEND:20150408T170000Z
X-MICROSOFT-CDO-ALLDAYEVENT:FALSE
SUMMARY:Safety Council Monthly Meeting 4/8/15
DESCRIPTION:Congratulations! Safety Council Awards Luncheon & CEO Event \n\nREMINDER - THIS EVENT IS AT SAMARITAN ON MAIN TODAY - NOT THE PUMP HOUSE\n\n\n\nCaught! Worker's Comp FRAUD \n\nDouglas Fisher\, Special Agent in Charge Special Investigations Health Care Provider Fraud Unit  \n\n \n\nThis fraud presentation will discuss workers' compensation healthcare fraud and the impact in cost and services upon the compensation system.  The audience is provided with real life examples\, fraud trends as well as red flags used to help identify potentially problematic claims\n\nand providers.
X-ALT-DESC;FMTTYPE=text/html:<span style="font-weight:bold\;language:en-US\;"><span style="color:black\;"><span style="font-family:calibri\;"><span style="font-size:18.0pt\;">Congratulations! Safety Council Awards Luncheon &amp\; CEO Event </span></span></span></span><br />\n<span style="color:#FF0000\;"><span style="font-size: 16px\;"><strong><span style="background-color: rgb(255\, 255\, 0)\;">REMINDER - THIS EVENT IS AT <u>SAMARITAN ON MAIN</u> TODAY - NOT THE PUMP HOUSE</span></strong></span></span><br />\n<br />\n<span style="font-weight:bold\;language:en-US\;"><span style="color:black\;"><span style="font-family:calibri\;"><span style="font-size:18.0pt\;">Caught! Worker&rsquo\;s Comp FRAUD </span></span></span></span><br />\n<span style="font-style:italic\;language:en-US\;"><span style="color:black\;"><span style="font-family:calibri\;"><span style="font-size:12.0pt\;">Douglas Fisher\, Special Agent in Charge Special Investigations Health Care Provider Fraud Unit&nbsp\; </span></span></span></span><br />\n&nbsp\;<br />\n<span style="language:en-US\;"><span style="color:black\;"><span style="font-family:calibri\;"><span style="font-size:14.0pt\;">This fraud presentation will discuss workers&rsquo\; compensation healthcare fraud and the impact in cost and services upon the compensation system.&nbsp\; The audience is provided with real life examples\, fraud trends as well as red flags used to help identify potentially problematic claims<br />\nand providers. </span></span></span></span><br />\n&nbsp\;<br />\n&nbsp\;
LOCATION:Samaritan on Main\, 663 E. Main St.\, Ashland OH
UID:e.1651.816
SEQUENCE:3
DTSTAMP:20260421T202320Z
URL:https://members.ashlandoh.com/events/details/safety-council-monthly-meeting-4-8-15-04-08-2015-816
END:VEVENT

END:VCALENDAR
