BEGIN:VCALENDAR
VERSION:2.0
PRODID:-//ChamberMaster//Event Calendar 2.0//EN
METHOD:PUBLISH
X-PUBLISHED-TTL:P3D
REFRESH-INTERVAL:P3D
CALSCALE:GREGORIAN
BEGIN:VEVENT
DTSTART:20140409T153000Z
DTEND:20140409T170000Z
X-MICROSOFT-CDO-ALLDAYEVENT:FALSE
SUMMARY:Safety Council Monthly Meeting 4/9/14
DESCRIPTION:The Ashland Area Safety Council Meets monthly on the 2nd Weds. of each month.\n\n\n\nDanger\, Danger Will Robinson... Workplace Violence 2.0\n\nTimothy Dimoff - Life Rage author\n\n\n\nWe like to think that the workplace is safe. But in reality\, Americans are bringing their problems and violence to the workplace. From bullying and simple assaults to unexpected aggression and active shooters\, no organization is completely safe.\n\nSpecific Performance Objectives:\n\n\n	\n		Learn what causes workplace violence\n	\n		Identify your duty to protect employees and visitors\n	\n		Identify the definition and types of workplace violence\n	\n		Learn a proactive approach to preventing violence
X-ALT-DESC;FMTTYPE=text/html:The Ashland Area Safety Council Meets monthly on the 2nd Weds. of each month.<br />\n<br />\n<span style="color:#ff3300\;"><strong>Danger\, Danger Will Robinson... Workplace Violence 2.0</strong></span><br />\n<span style="color:#b22222\;"><em><span style="font-size: 11px\;">Timothy Dimoff - Life Rage author</span></em></span><br />\n<br />\nWe like to think that the workplace is safe. But in reality\, Americans are bringing their problems and violence to the workplace. From bullying and simple assaults to unexpected aggression and active shooters\, no organization is completely safe.<br />\n<strong>Specific Performance Objectives:</strong><br />\n<ul>\n	<li>\n		Learn what causes workplace violence</li>\n	<li>\n		Identify your duty to protect employees and visitors</li>\n	<li>\n		Identify the definition and types of workplace violence</li>\n	<li>\n		Learn a proactive approach to preventing violence</li>\n</ul>\n
LOCATION:Samaritan on Main\, 663 E. Main Street\, Ashland\, OH 44805
UID:e.1651.607
SEQUENCE:3
DTSTAMP:20260422T160053Z
URL:https://members.ashlandoh.com/events/details/safety-council-monthly-meeting-4-9-14-04-09-2014-607
END:VEVENT

END:VCALENDAR
