BEGIN:VCALENDAR
VERSION:2.0
PRODID:-//ChamberMaster//Event Calendar 2.0//EN
METHOD:PUBLISH
X-PUBLISHED-TTL:P3D
REFRESH-INTERVAL:P3D
CALSCALE:GREGORIAN
BEGIN:VEVENT
DTSTART:20160511T153000Z
DTEND:20160511T170000Z
X-MICROSOFT-CDO-ALLDAYEVENT:FALSE
SUMMARY:Safety Council Monthly Meeting 5-11-16
DESCRIPTION:Ch-Ch-Ch-Changes...Have you been keeping up??!\n\nOSHA Recordkeeping Changes effective January 1\, 2015 are exposing employers to wall-to-wall OSHA inspections and many of our small to mid-sized employers are being greatly impacted.  Are you ready?  Come learn how to prepare.\n\n\n\nSpeaker: Special thanks to Jeff Dymond\, with the BWC\, for stepping in to speak for Jullian Nafe\, who was in a serious car accident\, and unable to come speak.. We wish Jullian all the best in the recovery process!\n\n\n\nREMINDER - WE WILL BE MOVING SAFETY COUNCIL TO THE 3RD WEDS OF THE MONTH BEGINNING IN JULY!
X-ALT-DESC;FMTTYPE=text/html:<strong>Ch-Ch-Ch-Changes...Have you been keeping up??!<br />\nOSHA Recordkeeping Changes effective January 1\, 2015 are exposing employers to wall-to-wall OSHA inspections and many of our small to mid-sized employers are being greatly impacted.&nbsp\; Are you ready?&nbsp\; Come learn how to prepare.</strong><br />\n<br />\nSpeaker: Special thanks to Jeff Dymond\, with the BWC\, for stepping in to speak for Jullian Nafe\, who was in a serious car accident\, and unable to come speak.. We wish Jullian all the best in the recovery process!<br />\n<br />\n<span style="color:#800000\;"><strong><span style="font-family: calibri\,sans-serif\;"><span style="font-size: 11pt\;">REMINDER - WE WILL BE MOVING SAFETY COUNCIL TO THE 3RD WEDS OF THE MONTH BEGINNING IN JULY!</span></span></strong></span><br />\n&nbsp\;
LOCATION:Samaritan On Main 663 E Main St.\, Ashland OH 44805
UID:e.1651.2390
SEQUENCE:3
DTSTAMP:20260420T205649Z
URL:https://members.ashlandoh.com/events/details/safety-council-monthly-meeting-5-11-16-05-11-2016-2390
END:VEVENT

END:VCALENDAR
