BEGIN:VCALENDAR
VERSION:2.0
PRODID:-//ChamberMaster//Event Calendar 2.0//EN
METHOD:PUBLISH
X-PUBLISHED-TTL:P3D
REFRESH-INTERVAL:P3D
CALSCALE:GREGORIAN
BEGIN:VEVENT
DTSTART:20150513T153000Z
DTEND:20150513T170000Z
X-MICROSOFT-CDO-ALLDAYEVENT:FALSE
SUMMARY:Safety Council Monthly Meeting 5/13/15
DESCRIPTION:Advanced Lock Out/Tag Out \n\n\n\nFor those safety\, loss control\, and maintenance personnel\, along with operations managers who have a basic understanding of LOTO best practices and wish to increase their skill set in following and implementing policies.\n\n\n\nWe will overview this class on:  How to identify energy isolation devices\; How to define normal production operations\; Become familiar with the OSHA alternate procedures - CPL 02-00-147\; Learn resources available for risk assessments.  \n\n \n\nRob Powell\,  Industrial Safety Consultant Specialist\n\nBWC Mansfield Service Office
X-ALT-DESC;FMTTYPE=text/html:<span style="font-weight:bold\;language:en-US\;"><span style="font-family:calibri\;"><span style="font-size:18.0pt\;">Advanced Lock Out/Tag Out </span></span></span><br />\n<br />\n<span style="language:en-US\;"><span style="font-family:calibri\;"><span style="font-size:12.0pt\;">For those safety\, loss control\, and maintenance personnel\, along with operations managers who have a basic understanding of LOTO best practices and wish to increase their skill set in following and implementing policies.<br />\n<br />\nWe will overview this class on:&nbsp\; How to identify energy isolation devices\; How to define normal production operations\; Become familiar with the OSHA alternate procedures - CPL 02-00-147\; Learn resources available for risk assessments.&nbsp\; </span></span></span><br />\n&nbsp\;<br />\n<span style="font-weight:bold\;language:en-US\;"><span style="font-family:calibri\;"><span style="font-size:14.0pt\;">Rob Powell\,&nbsp\; Industrial Safety Consultant Specialist</span></span></span><br />\n<span style="font-weight:bold\;language:en-US\;"><span style="font-family:calibri\;"><span style="font-size:14.0pt\;">BWC Mansfield Service Office</span></span></span><br />\n&nbsp\;<br />\n&nbsp\;
LOCATION:Samaritan on Main\, 663 E. Main St.\, Ashland OH 44805
UID:e.1651.817
SEQUENCE:3
DTSTAMP:20260421T183248Z
URL:https://members.ashlandoh.com/events/details/safety-council-monthly-meeting-5-13-15-05-13-2015-817
END:VEVENT

END:VCALENDAR
