BEGIN:VCALENDAR
VERSION:2.0
PRODID:-//ChamberMaster//Event Calendar 2.0//EN
METHOD:PUBLISH
X-PUBLISHED-TTL:P3D
REFRESH-INTERVAL:P3D
CALSCALE:GREGORIAN
BEGIN:VEVENT
DTSTART:20140514T153000Z
DTEND:20140514T170000Z
X-MICROSOFT-CDO-ALLDAYEVENT:FALSE
SUMMARY:Safety Council Monthly Meeting 5/14/14
DESCRIPTION:The Ashland Area Safety Council Meets monthly on the 2nd Weds. of each month.\n\n\n\nWhen... "You are only as old as you feel" just won't cut in anymore. Planning for your Aging Workers.\n\nSpeaker: Jared Cass\, OTR/L\, CEAS\, TWD Occupational Health Therapy Manager\n\nAvita Health System - Bucyrus and Galion Community Hospitals\n\nCome learn how to deal with the effects of an aging workforce. Prevention is key considering increased recovery time and results following a workplace injury.
X-ALT-DESC;FMTTYPE=text/html:<p>The Ashland Area Safety Council Meets monthly on the 2nd Weds. of each month.<br />\n<br />\n<span style="color:#ff3300\;"><strong>When... &quot\;You are only as old as you feel&quot\; just won&#39\;t cut in anymore. Planning for your Aging Workers.</strong></span></p>\n\n<p><span style="font-size:12px\;"><span style="font-family: arial\;"><strong><span style="color: rgb(165\, 42\, 42)\;">Speaker: </span></strong>Jared Cass\, OTR/L\, CEAS\, TWD Occupational Health Therapy Manager<br />\n<strong>Avita Health System - Bucyrus and Galion Community Hospitals</strong></span></span></p>\n\n<p>Come learn how to deal with the effects of an aging workforce. Prevention is key considering increased recovery time and results following a workplace injury.</p>\n
LOCATION:Samaritan on Main\, 663 E. Main Street\, Ashland\, OH 44805
UID:e.1651.608
SEQUENCE:3
DTSTAMP:20260422T141152Z
URL:https://members.ashlandoh.com/events/details/safety-council-monthly-meeting-5-14-14-05-14-2014-608
END:VEVENT

END:VCALENDAR
