BEGIN:VCALENDAR
VERSION:2.0
PRODID:-//ChamberMaster//Event Calendar 2.0//EN
METHOD:PUBLISH
X-PUBLISHED-TTL:P3D
REFRESH-INTERVAL:P3D
CALSCALE:GREGORIAN
BEGIN:VEVENT
DTSTART:20150610T153000Z
DTEND:20150610T170000Z
X-MICROSOFT-CDO-ALLDAYEVENT:FALSE
SUMMARY:Safety Council Monthly Meeting 6/10/15
DESCRIPTION:This Isn't Bedrock - Make sure you are wearing the right foot protection!\n\nRed Wing Representative\n\nSponsored by Janice Glenn with Kids Kountry & More
X-ALT-DESC;FMTTYPE=text/html:<span style="font-weight:bold\;language:en-US\;"><span style="color:black\;"><span style="font-family:calibri\;"><span style="font-size:18.0pt\;">This Isn&rsquo\;t Bedrock - Make sure you are wearing the right foot protection!</span></span></span></span><br />\nRed Wing Representative<br />\nSponsored by Janice Glenn with Kids Kountry &amp\; More
LOCATION:Samaritan On Main 663 E. Main St. Ashland\, OH
UID:e.1651.818
SEQUENCE:3
DTSTAMP:20260421T163553Z
URL:https://members.ashlandoh.com/events/details/safety-council-monthly-meeting-6-10-15-06-10-2015-818
END:VEVENT

END:VCALENDAR
