BEGIN:VCALENDAR
VERSION:2.0
PRODID:-//ChamberMaster//Event Calendar 2.0//EN
METHOD:PUBLISH
X-PUBLISHED-TTL:P3D
REFRESH-INTERVAL:P3D
CALSCALE:GREGORIAN
BEGIN:VEVENT
DTSTART:20140611T153000Z
DTEND:20140611T170000Z
X-MICROSOFT-CDO-ALLDAYEVENT:FALSE
SUMMARY:Safety Council Monthly Meeting 6/11/14
DESCRIPTION:The Ashland Area Safety Council Meets monthly on the 2nd Weds. of each month.\n\n\n\nHands and Hearing - Do You Really Need Them?\n\nSpeaker: Mark Whims - Honeywell \n\n\n\nOne in 10 Americans suffers from a hearing loss that affects his ability to understand normal speech. While age-related hearing loss is the most common cause\, excessive noise exposure is also a factor. There's nothing we can do to avoid the fact that we're surrounded by noise everyday\, but there are things we can do to minimize its damage to our hearing. Simple ear protection is one preventative measure.
X-ALT-DESC;FMTTYPE=text/html:The Ashland Area Safety Council Meets monthly on the 2nd Weds. of each month.<br />\n<br />\n<span style="color:#ff3300\;"><strong>Hands and Hearing - Do You Really Need Them?</strong></span><br />\n<em><span style="color:#a52a2a\;"><span style="font-size: 11px\;">Speaker: Mark Whims - Honeywell </span></span></em><br />\n<br />\nOne in 10 Americans suffers from a hearing loss that affects his ability to understand normal speech. While age-related hearing loss is the most common cause\, excessive noise exposure is also a factor. There&#39\;s nothing we can do to avoid the fact that we&#39\;re surrounded by noise everyday\, but there are things we can do to minimize its damage to our hearing. Simple ear protection is one preventative measure.
LOCATION:Samaritan on Main\, 663 E. Main Street\, Ashland\, OH 44805
UID:e.1651.609
SEQUENCE:3
DTSTAMP:20260422T122619Z
URL:https://members.ashlandoh.com/events/details/safety-council-monthly-meeting-6-11-14-06-11-2014-609
END:VEVENT

END:VCALENDAR
