BEGIN:VCALENDAR
VERSION:2.0
PRODID:-//ChamberMaster//Event Calendar 2.0//EN
METHOD:PUBLISH
X-PUBLISHED-TTL:P3D
REFRESH-INTERVAL:P3D
CALSCALE:GREGORIAN
BEGIN:VEVENT
DTSTART:20130710T153000Z
DTEND:20130710T170000Z
X-MICROSOFT-CDO-ALLDAYEVENT:FALSE
SUMMARY:Safety Council Monthly Meeting 7/10/13
DESCRIPTION:The Ashland Area Safety Council Meets monthly on the 2nd Weds. of each month.\n\n\n\nDiscounts\, Savings and More\, Oh My! How Much Are You Saving This Year?\n\nSpeaker: Jodi Sabatino\, Employer Services Specialists - Canton Service Office BWC\n\n\n\nYou will learn ALL the requirements and discounts associated within the Destination Excellence Programs including:\n\n	\n		Industry Specific Safety Program\n	\n		Transitional Work Bonus Program\n	\n		Go Green\n	\n		Lapse Free\n	\n		Safety Councils\n	\n		Drug Free Safety Program
X-ALT-DESC;FMTTYPE=text/html:The Ashland Area Safety Council Meets monthly on the 2nd Weds. of each month.<br />\n<br />\n<span style="color:#ff3300\;"><strong>Discounts\, Savings and More\, Oh My! How Much Are You Saving This Year?</strong></span><br />\n<em><span style="color:#a52a2a\;"><span style="font-size: 11px\;">Speaker: Jodi Sabatino\, Employer Services Specialists - Canton Service Office BWC</span></span></em><br />\n<br />\nYou will learn ALL the requirements and discounts associated within the Destination Excellence Programs including:\n<ul>\n	<li>\n		Industry Specific Safety Program</li>\n	<li>\n		Transitional Work Bonus Program</li>\n	<li>\n		Go Green</li>\n	<li>\n		Lapse Free</li>\n	<li>\n		Safety Councils</li>\n	<li>\n		Drug Free Safety Program</li>\n</ul>\n
LOCATION:Samaritan on Main\, 663 E. Main Street\, Ashland\, OH 44805
UID:e.1651.598
SEQUENCE:3
DTSTAMP:20260423T070607Z
URL:https://members.ashlandoh.com/events/details/safety-council-monthly-meeting-7-10-13-07-10-2013-598
END:VEVENT

END:VCALENDAR
