BEGIN:VCALENDAR
VERSION:2.0
PRODID:-//ChamberMaster//Event Calendar 2.0//EN
METHOD:PUBLISH
X-PUBLISHED-TTL:P3D
REFRESH-INTERVAL:P3D
CALSCALE:GREGORIAN
BEGIN:VEVENT
DTSTART:20140709T153000Z
DTEND:20140709T170000Z
X-MICROSOFT-CDO-ALLDAYEVENT:FALSE
SUMMARY:Safety Council Monthly Meeting 7/9/14
DESCRIPTION:When Creativity Isn?t Safe!\n\nPIT & CRANES Standards\n\n \n\nPIT (Power Industrial Trucks) The development of a written program including the operator training. The OSHA Standard 29 CFR 1910.178. How to customize your program to the company?s specific hazards. What does Certification mean.\n\n\n\nCranes (Indoor cranes) The OSHA Standard 29 CFR 1910.179. The development of a written program. Inspections and Safe Practices of Cranes & Slings \n\n\n\nRobin Watson\, Industrial Safety Consultant\, Canton Service Office BWC\n\nRobin began working for the Division of Safety & Hygiene of BWC in 2002 as an Industrial Safety Consultant. As a safety consultant\, the goal is to provide employers with a variety of safety services aimed at educating Ohio?s employers in safety leadership\, safety management techniques\, and specific safety needs. This includes safety program assessments\, consultations\, trainings\, a resource for tools and skills to prevent injuries and illnesses\, hazard assessments of facility?s\, and evaluations of safety systems & processes to help employers become self-sufficient and continue maintaining a safe workplace.  Prior to working for the BWC\, Robin has 26 years of experience in the Industrial Gas Business which included heavy equipment\, welding & fabrication\, confined space entry\, non-destructive testing\, high pressure compressed gas units\, and bulk liquid carriers. Robin has a BA in Psychology from KSU\, an Associate Degree in Liberal Arts from KSU\, an Associate Degree in Accounting from Stark Technical College and is certified as an OSHA Outreach Trainer for General Industry 10 & 30 hour classes.
X-ALT-DESC;FMTTYPE=text/html:<span style="font-weight:bold\;language:en-US\;"><span style="color:black\;"><span style="font-family:calibri\;"><span style="font-size:18.0pt\;">When Creativity</span></span></span></span><span style="font-weight:bold\;language:en-US\;"><span style="color:black\;"><span style="font-family:calibri\;"><span style="font-size:18.0pt\;"> Isn?t Safe!</span></span></span></span><br>\n<span style="font-weight:bold\;language:en-US\;"><span style="color:black\;"><span style="font-family:calibri\;"><span style="font-size:18.0pt\;">PIT &amp\; CRANES Standards</span></span></span></span><br>\n&nbsp\;<br>\n<span style="font-weight:bold\;language:en-US\;"><span style="font-family:arial\;"><span style="font-size:9.0pt\;">PIT (Power Industrial Trucks) </span></span></span><span style="language:en-US\;"><span style="font-family:arial\;"><span style="font-size:9.0pt\;">The development of a written program including the operator training. The OSHA Standard 29 CFR 1910.17</span></span></span><span style="language:en-US\;"><span style="font-family:arial\;"><span style="font-size:9.0pt\;">8. How to customize your program to the company?s specific hazards. What does Certification mean.</span></span></span><br>\n<br>\n<span style="font-weight:bold\;language:en-US\;"><span style="font-family:arial\;"><span style="font-size:9.0pt\;">Cranes (Indoor cranes) </span></span></span><span style="language:en-US\;"><span style="font-family:arial\;"><span style="font-size:9.0pt\;">The OSHA Standard 29 CFR 1910.179. The development of a written program. Inspections and Safe Practices of Cranes &amp\; Slings </span></span></span><br>\n<br>\n<span style="font-weight:bold\;language:en-US\;"><span style="font-family:calibri\;"><span style="font-size:14.0pt\;">Robin Watson\, Industrial Safety Consultant\, Canton Service Office BWC</span></span></span><br>\n<span style="font-style:italic\;language:en-US\;"><span style="font-family:arial narrow\;"><span style="font-size:9.0pt\;">Robin began working for the Division of Safety &amp\; Hygiene of BWC in 2002 as an Industrial Safety Consultant. As a safety consultant\, the goal is to provide employers with a variety of safety services aimed at educating Ohio?s employers in safety leadership\, safety management techniques\, and specific safety needs. This includes safety program assessments\, consultations\, trainings\, a resource for tools and skills to prevent injuries and illnesses\, hazard assessments of facility?s\, and evaluations of safety systems &amp\; processes to help employers become self-sufficient and continue maintaining a safe workplace.&nbsp\; </span></span></span><span style="font-style:italic\;language:en-US\;"><span style="font-family:arial narrow\;"><span style="font-size:9.0pt\;">Prior to working for the BWC\, Robin has 26 years of experience in the Industrial Gas Business which included heavy equipment\, welding &amp\; fabrication\, confined space entry\, non-destructive testing\, high pressure compressed gas units\, and bulk liquid carriers. Robin has a BA in Psychology from KSU\, an Associate Degree in Liberal Arts from KSU\, an Associate Degree in Accounting from Stark Technical College and is certified as an OSHA Outreach Trainer for General Industry 10 &amp\; 30 hour classes. </span></span></span><br>\n&nbsp\;<br>\n<br>\n&nbsp\;<br>\n&nbsp\;
LOCATION:Samaritan on Main Street 663 E. Main Street\, Ashland Ohio 44805
UID:e.1651.807
SEQUENCE:3
DTSTAMP:20260422T111113Z
URL:https://members.ashlandoh.com/events/details/safety-council-monthly-meeting-7-9-14-07-09-2014-807
END:VEVENT

END:VCALENDAR
