BEGIN:VCALENDAR
VERSION:2.0
PRODID:-//ChamberMaster//Event Calendar 2.0//EN
METHOD:PUBLISH
X-PUBLISHED-TTL:P3D
REFRESH-INTERVAL:P3D
CALSCALE:GREGORIAN
BEGIN:VEVENT
DTSTART:20150813T033000Z
DTEND:20150812T170000Z
X-MICROSOFT-CDO-ALLDAYEVENT:FALSE
SUMMARY:Safety Council Monthly Meeting 8-12-15
DESCRIPTION:Shape Up\, or they'll carry you out  Total Worker Safety - Wellness in the Workplace\n\n \n\nWhy is this such a big topic now?  What does it have to do with my business? It isn't really my business what our employees do right?  WRONG!  \n\n \n\n\n\nSpeaker:Shanna Dunbar\, RN\, COHN-S\, CCM\, Director of Health & Productivity  Workplace Health\, Inc.\n\nShanna Dunbar\, RN\, COHN-S\, CCM\, brings over 20 years of occupational health experience to Workplace Health\, Inc.\, specializing in improving the Health & Productivity of employees for the clients she serves. She is currently directing Health & Productivity programs for corporate clients planning\, developing and implementing health promotion programs\, including health fairs\, disease & care management and wellness coaching programs and is one of the few Certified Intrinsic  Health Coaches in Ohio.  She has been involved with development and implementation of Drug Free Workplace programs since 1988. She is also a nationally recognized speaker. She has been a certified transitional work developer since 2001 and was one of the first to be certified as an instructor of Mental Health First Aid Certification courses in the State of Ohio. She is certified in Occupational Health Nursing as a Specialist (since 1993) through the American Board of Occupational Health Nursing as well as a Board member. She holds a Certificate in Workers' Compensation Administration and Management. She has also been a Certified Case Manager since 1993. Her educational preparation at UCLA in Kinesiology brings a particular expertise in Ergonomics and job analysis. She has worked with employers in Occupational Health since 1986 and has promoted cost-effective program management in Health & Productivity Promotion\, Substance Abuse Prevention\, Injury and Illness Prevention\, Disability Management\, Workers' Compensation Risk Management\, Mental Health First Aid\, Medical Surveillance and Transitional Work. Her expertise is in teaching companies how they can save money with their health care dollar.
X-ALT-DESC;FMTTYPE=text/html:<span style="font-weight:bold\;language:en-US\;"><span style="color:black\;"><span style="font-family:calibri\;"><span style="font-size:18.0pt\;">Shape Up\, or they&rsquo\;ll carry you out&hellip\; Total Worker Safety - Wellness in the Workplace</span></span></span></span><br />\n&nbsp\;<br />\n<span style="font-weight:bold\;language:en-US\;"><span style="color:black\;"><span style="font-family:calibri\;"><span style="font-size:10.0pt\;">Why is this such a big topic now?&nbsp\; What does it have to do with my business? It isn&rsquo\;t really my business what our employees do&mdash\;right?&nbsp\; WRONG!&nbsp\; </span></span></span></span><br />\n&nbsp\;<br />\n<br />\nSpeaker:<span style="font-weight:bold\;language:en-US\;"><span style="font-family:garamond\;"><span style="font-size:14.0pt\;">Shanna Dunbar\, RN\, COHN-S\, CCM\, Director of Health &amp\; Productivity&nbsp\; </span></span></span><span style="font-style:italic\;font-weight:bold\;language:en-US\;"><span style="font-family:garamond\;"><span style="font-size:11.0pt\;">Workplace Health\, Inc.</span></span></span><br />\n<span style="font-style:italic\;language:en-US\;"><span style="color:black\;"><span style="font-family:garamond\;"><span style="font-size:8.0pt\;">Shanna Dunbar\,&nbsp\;</span></span></span></span><span style="font-style:italic\;font-weight:bold\;language:en-US\;"><span style="color:black\;"><span style="font-family:garamond\;"><span style="font-size:8.0pt\;">RN\, COHN-S\, CCM\,</span></span></span></span><span style="font-style:italic\;language:en-US\;"><span style="color:black\;"><span style="font-family:garamond\;"><span style="font-size:8.0pt\;">&nbsp\;brings over 20 years of occupational health experience to Workplace Health\, Inc.\, specializing in improving the Health &amp\; Productivity of employees for the clients she serves.&nbsp\;She is currently directing Health &amp\; Productivity programs for corporate clients planning\, developing and&nbsp\;implementing health promotion programs\, including health fairs\, disease &amp\; care management and wellness coaching programs and is one of the few Certified Intrinsic&reg\; Health Coaches in Ohio.&nbsp\; She has been involved with development and implementation of Drug Free Workplace programs since 1988.&nbsp\;She is also a nationally recognized speaker. She has been a certified transitional work developer since 2001 and was one of the first to be certified as an instructor of Mental Health First Aid Certification courses in the State of Ohio. She is certified in Occupational Health Nursing as a Specialist (since 1993) through the American Board of Occupational Health Nursing&nbsp\;as well as a Board member. She holds a Certificate in Workers&rsquo\; Compensation Administration and&nbsp\;Management. She has also been a Certified Case Manager since 1993. Her educational preparation at UCLA in Kinesiology brings a particular expertise in Ergonomics and job analysis. She has worked with employers in Occupational Health since 1986 and has promoted cost-effective program management in Health &amp\; Productivity Promotion\, Substance Abuse Prevention\, Injury and Illness Prevention\, Disability Management\, Workers&#39\; Compensation Risk Management\, Mental Health First Aid\, Medical Surveillance and Transitional Work. Her expertise is in teaching companies how they can save money with their health care dollar.</span></span></span></span><br />\n&nbsp\;<br />\n&nbsp\;
LOCATION:Samaritan On Main 663 E Main St.\, Ashland OH 44805
UID:e.1651.2381
SEQUENCE:3
DTSTAMP:20260421T131106Z
URL:https://members.ashlandoh.com/events/details/safety-council-monthly-meeting-8-12-15-08-12-2015-2381
END:VEVENT

END:VCALENDAR
