BEGIN:VCALENDAR
VERSION:2.0
PRODID:-//ChamberMaster//Event Calendar 2.0//EN
METHOD:PUBLISH
X-PUBLISHED-TTL:P3D
REFRESH-INTERVAL:P3D
CALSCALE:GREGORIAN
BEGIN:VEVENT
DTSTART:20130814T153000Z
DTEND:20130814T170000Z
X-MICROSOFT-CDO-ALLDAYEVENT:FALSE
SUMMARY:Safety Council Monthly Meeting 8/14/13
DESCRIPTION:The Ashland Area Safety Council Meets monthly on the 2nd Weds. of each month.\n\n\n\nLet's Harmonize! Is our company singing off pitch or hitting the right notes? GHS Standard & SDS Standard 2.0\n\nSpeaker: Dave Roll\, Safety and Health Consultant with OSHA On-Site\n\n\n\nThe new labeling requirement for GHS (Globally Harmonized System) deadline is December 1\, 2013. Come learn about these programs and what you need to have completed by December 1st.\n\n\n\nBe sure to invite someone!
X-ALT-DESC;FMTTYPE=text/html:The Ashland Area Safety Council Meets monthly on the 2nd Weds. of each month.<br />\n<br />\n<span style="color:#ff3300\;"><strong>Let&#39\;s Harmonize! Is our company singing off pitch or hitting the right notes? GHS Standard &amp\; SDS Standard 2.0</strong></span><br />\n<em><span style="color:#a52a2a\;"><span style="font-size: 11px\;">Speaker: Dave Roll\, Safety and Health Consultant with OSHA On-Site</span></span></em><br />\n<br />\nThe new labeling requirement for GHS (Globally Harmonized System) deadline is December 1\, 2013. Come learn about these programs and what you need to have completed by December 1st.<br />\n<br />\n<strong>Be sure to invite someone!</strong>
LOCATION:Samaritan on Main\, 663 E. Main Street\, Ashland\, OH 44805
UID:e.1651.599
SEQUENCE:3
DTSTAMP:20260423T070658Z
URL:https://members.ashlandoh.com/events/details/safety-council-monthly-meeting-8-14-13-08-14-2013-599
END:VEVENT

END:VCALENDAR
