BEGIN:VCALENDAR
VERSION:2.0
PRODID:-//ChamberMaster//Event Calendar 2.0//EN
METHOD:PUBLISH
X-PUBLISHED-TTL:P3D
REFRESH-INTERVAL:P3D
CALSCALE:GREGORIAN
BEGIN:VEVENT
DTSTART:20130911T153000Z
DTEND:20130911T170000Z
X-MICROSOFT-CDO-ALLDAYEVENT:FALSE
SUMMARY:Safety Council Monthly Meeting 9/11/13
DESCRIPTION:The Ashland Area Safety Council Meets monthly on the 2nd Weds. of each month.\n\n\n\nI2P2 - No\, this isn't a Star Wars Character in a galaxy far\, far away! It's closer than you think!\n\nSpeaker: Chad Positano\, CSP\, CHMM Assistant Area Director - OSHA\n\n\n\nI2P2 - Injury and Illness Prevention Program. This presentation will focus on the proposed I2P2 regulation and implementation of an effective Safety and Health Management Program.
X-ALT-DESC;FMTTYPE=text/html:The Ashland Area Safety Council Meets monthly on the 2nd Weds. of each month.<br />\n<br />\n<strong><span style="color:#ff3300\;">I<sub>2</sub>P<sub>2</sub><sub> </sub>- No\, this isn&#39\;t a Star Wars Character in a galaxy far\, far away! It&#39\;s closer than you think!</span></strong><br />\n<em><span style="color:#a52a2a\;"><span style="font-size: 11px\;">Speaker: Chad Positano\, CSP\, CHMM Assistant Area Director - OSHA</span></span></em><br />\n<br />\n<strong>I</strong><sub>2</sub><strong>P</strong><sub>2</sub> - Injury and Illness Prevention Program. This presentation will focus on the proposed <strong>I</strong><sub>2</sub><strong>P</strong><sub>2</sub> regulation and implementation of an effective Safety and Health Management Program.
LOCATION:Samaritan on Main\, 663 E. Main Street\, Ashland\, OH 44805
UID:e.1651.600
SEQUENCE:3
DTSTAMP:20260423T035816Z
URL:https://members.ashlandoh.com/events/details/safety-council-monthly-meeting-9-11-13-09-11-2013-600
END:VEVENT

END:VCALENDAR
