BEGIN:VCALENDAR
VERSION:2.0
PRODID:-//ChamberMaster//Event Calendar 2.0//EN
METHOD:PUBLISH
X-PUBLISHED-TTL:P3D
REFRESH-INTERVAL:P3D
CALSCALE:GREGORIAN
BEGIN:VEVENT
DTSTART:20150910T033000Z
DTEND:20150909T170000Z
X-MICROSOFT-CDO-ALLDAYEVENT:FALSE
SUMMARY:Safety Council Monthly Meeting 9-9-15
DESCRIPTION:Hey\, Dude...It's Legal\, man\n\nMarijuana Legalization and Its Impact on your Busine$$ Operation.  \n\nMarijuana is legalized for medicinal or recreational use in 54% of the United States with many other states facing legalization initiatives.  This can have significant operational implications for employers and their business at a time when general workplace drug test positives for marijuana are on the rise and substance abusers cost their employers a reported $81-193 billion annually in lost productivity.\n\nLearning Objectives:\n\n\n	Understand the national marijuana legalization movement\n	Differentiate fact from fiction\n	Understand the Ohio Campaign for legalization and what actions employers can take now.\n\n\nSpeakers:\n\n\n	Chris Tunnell\, Ashland County Prosecutor\n	Rich Siegenthaler II\, MEd\, CBP President & CEO Integrated Wellness Solutions\n\nFall Walking Challenge Kick-Off
X-ALT-DESC;FMTTYPE=text/html:<p><span style="font-weight:bold\;language:en-US\;"><span style="color:black\;"><span style="font-family:aharoni\;"><span style="font-size:16.0pt\;">Hey\, Dude...It&rsquo\;s Legal\, man</span></span></span></span><br />\n<span style="font-style:italic\;font-weight:bold\;language:en-US\;"><span style="color:black\;"><span style="font-family:garamond\;">Marijuana Legalization and Its Impact on your Busine$$ Operation</span></span></span><span style="font-style:italic\;language:en-US\;"><span style="color:black\;"><span style="font-family:garamond\;">. </span></span></span>&nbsp\;<br />\n<span style="font-weight:bold\;language:en-US\;"><span style="font-family:calibri\;"><span style="font-size:11.0pt\;">Marijuana is legalized for medicinal or recreational use in 54% of the United States with many other states facing legalization initiatives.&nbsp\; This can have significant operational implications for employers and their business at a time when general workplace drug test positives for marijuana are on the rise and substance abusers cost their employers a reported $81-193 billion annually in lost productivity.</span></span></span></p>\n\n<p><span style="font-weight:bold\;language:en-US\;"><span style="font-family:calibri\;"><span style="font-size:11.0pt\;">Learning Objectives:</span></span></span></p>\n\n<ul>\n	<li><span style="font-weight:bold\;language:en-US\;"><span style="font-family:calibri\;"><span style="font-size:11.0pt\;">Understand the national marijuana legalization movement</span></span></span></li>\n	<li><span style="font-weight:bold\;language:en-US\;"><span style="font-family:calibri\;"><span style="font-size:11.0pt\;">Differentiate fact from fiction</span></span></span></li>\n	<li><span style="font-weight:bold\;language:en-US\;"><span style="font-family:calibri\;"><span style="font-size:11.0pt\;">Understand the Ohio Campaign for legalization and what actions employers</span></span></span><span style="font-weight:bold\;language:en-US\;"><span style="font-family:calibri\;"><span style="font-size:11.0pt\;"> can take now.</span></span></span></li>\n</ul>\n\n<p><em><strong>Speakers:</strong></em></p>\n\n<ul>\n	<li>Chris Tunnell\, Ashland County Prosecutor</li>\n	<li>Rich Siegenthaler II\, MEd\, CBP President &amp\; CEO Integrated Wellness Solutions</li>\n</ul>\nFall Walking Challenge Kick-Off
LOCATION:Samaritan On Main 663 E Main St.\, Ashland OH 44805
UID:e.1651.2382
SEQUENCE:3
DTSTAMP:20260421T131106Z
URL:https://members.ashlandoh.com/events/details/safety-council-monthly-meeting-9-9-15-09-09-2015-2382
END:VEVENT

END:VCALENDAR
