BEGIN:VCALENDAR
VERSION:2.0
PRODID:-//ChamberMaster//Event Calendar 2.0//EN
METHOD:PUBLISH
X-PUBLISHED-TTL:P3D
REFRESH-INTERVAL:P3D
CALSCALE:GREGORIAN
BEGIN:VEVENT
DTSTART:20170419T153000Z
DTEND:20170419T170000Z
X-MICROSOFT-CDO-ALLDAYEVENT:FALSE
SUMMARY:Safety Council - Sleep Deprivation 4-19-17
DESCRIPTION:Sleep Deprivation - A major concern for Employers\n\nPresented by Dr. Laura Mooney\n\nDistracted Driver Simulator from ODOT\n\n\n\nTopic Agenda:\n\n	Learn why sleep deprivation is causing issues at work\n	Learn ways to help your employees with a better work/life balance.\n	Take a spin in the Distracted Drive Simulator from ODOT
X-ALT-DESC;FMTTYPE=text/html:<span style="font-size:18px\;">Sleep Deprivation - A major concern for Employers</span><br />\nPresented by Dr. Laura Mooney<br />\nDistracted Driver Simulator from ODOT<br />\n<br />\nTopic Agenda:\n<ul>\n	<li>Learn why sleep deprivation is causing issues at work</li>\n	<li>Learn ways to help your employees with a better work/life balance.</li>\n	<li>Take a spin in the Distracted Drive Simulator from ODOT</li>\n</ul>\n
LOCATION:UH/Samaritan on Main\, 663 E. Main St. Ashland\, OH
UID:e.1651.4128
SEQUENCE:3
DTSTAMP:20260420T014614Z
URL:https://members.ashlandoh.com/events/details/safety-council-sleep-deprivation-4-19-17-4128
END:VEVENT

END:VCALENDAR
