BEGIN:VCALENDAR
VERSION:2.0
PRODID:-//ChamberMaster//Event Calendar 2.0//EN
METHOD:PUBLISH
X-PUBLISHED-TTL:P3D
REFRESH-INTERVAL:P3D
CALSCALE:GREGORIAN
BEGIN:VEVENT
DTSTART:20170621T153000Z
DTEND:20170621T170000Z
X-MICROSOFT-CDO-ALLDAYEVENT:FALSE
SUMMARY:Safety Council Train the Trainer 6-21-17
DESCRIPTION:Train the Trainer / Coach for the Coach\n\nPresented by Deb bailey\, Canton BWC  \n\n\n\nTopic Agenda:\n\n	Let's train our folks!\n	Ok! Who is going to do this?\n	Now let's get them some training so they can train others!
X-ALT-DESC;FMTTYPE=text/html:<span style="font-size:18px\;">Train the Trainer / Coach for the Coach</span><br />\nPresented by Deb bailey\, Canton BWC &nbsp\;<br />\n<br />\nTopic Agenda:\n<ul>\n	<li>Let&#39\;s train our folks!</li>\n	<li>Ok! Who is going to do this?</li>\n	<li>Now let&#39\;s get them some training so they can train others!</li>\n</ul>\n
LOCATION:UH/Samaritan on Main\, 663 E. Main St. Ashland\, OH
UID:e.1651.4130
SEQUENCE:3
DTSTAMP:20260420T003409Z
URL:https://members.ashlandoh.com/events/details/safety-council-train-the-trainer-6-21-17-4130
END:VEVENT

END:VCALENDAR
