BEGIN:VCALENDAR
VERSION:2.0
PRODID:-//ChamberMaster//Event Calendar 2.0//EN
METHOD:PUBLISH
X-PUBLISHED-TTL:P3D
REFRESH-INTERVAL:P3D
CALSCALE:GREGORIAN
BEGIN:VEVENT
DTSTART:20160608T153000Z
DTEND:20160608T170000Z
X-MICROSOFT-CDO-ALLDAYEVENT:FALSE
SUMMARY:SAFETY COUNCIL Worker's Comp & Joint Employers
DESCRIPTION:Be In The KNOW..Worker's Comp & Joint Employers\n\nWorker's Comp Focus on: What to do when someone claims an injury and intertwine how it affects you when you are using a temp agency (which OSHA now calls a joint employer) and is extending liability to the temp agency as well.\n\n\n\nSpeaker: Sue Baker\, Critchfield\, Critchfield & Johnston LLC\n\n\n\nREMINDER - WE WILL BE MOVING SAFETY COUNCIL TO THE 3RD WEDS OF THE MONTH BEGINNING IN JULY!
X-ALT-DESC;FMTTYPE=text/html:<strong>Be In The KNOW..Worker&#39\;s Comp &amp\; Joint Employers</strong><br />\nWorker&#39\;s Comp Focus on: What to do when someone claims an injury and intertwine how it affects you when you are using a temp agency (which OSHA now calls a joint employer) and is extending liability to the temp agency as well.<br />\n<br />\nSpeaker: Sue Baker\, Critchfield\, Critchfield &amp\; Johnston LLC<br />\n<br />\n<span style="color:#800000\;"><strong><span style="font-family: calibri\,sans-serif\;"><span style="font-size: 11pt\;">REMINDER - WE WILL BE MOVING SAFETY COUNCIL TO THE 3RD WEDS OF THE MONTH BEGINNING IN JULY!</span></span></strong></span>
LOCATION:Samaritan On Main 663 E Main St.\, Ashland OH 44805
UID:e.1651.2391
SEQUENCE:3
DTSTAMP:20260420T191701Z
URL:https://members.ashlandoh.com/events/details/safety-council-worker-s-comp-joint-employers-06-08-2016-2391
END:VEVENT

END:VCALENDAR
