BEGIN:VCALENDAR
VERSION:2.0
PRODID:-//ChamberMaster//Event Calendar 2.0//EN
METHOD:PUBLISH
X-PUBLISHED-TTL:P3D
REFRESH-INTERVAL:P3D
CALSCALE:GREGORIAN
BEGIN:VEVENT
DTSTART:20161112T140000Z
DTEND:20161112T190000Z
X-MICROSOFT-CDO-ALLDAYEVENT:FALSE
SUMMARY:Santa's Attic - This SATURDAY!!
DESCRIPTION:Christmas Treasures\, Decor\, Gifts\, \n\nand More!\n\n\n\nA festive fundraising Event for the Ashland Christian Health Center. Something for all Ages!\n\n\n\nSaturday\, November 12 is a day full of craft shows and activities in Ashland!  Make our Christmas Attic one of your stops between the Hillsdale\, St. Eds. & Downtown Shopping - it is a great time\, we have great items AND it is all for a great cause!  We look forward to having you stop in and shop!
X-ALT-DESC;FMTTYPE=text/html:<p><span style="font-size:24px\;"><strong>Christmas Treasures\, Decor\, Gifts\, </strong></span><br />\n<span style="font-size:24px\;"><strong>and More!</strong></span><br />\n<br />\nA festive fundraising Event for the Ashland Christian Health Center. Something for all Ages!<br />\n<br />\nSaturday\, November 12 is a day full of craft shows and activities in Ashland!&nbsp\; Make our Christmas Attic one of your stops between the Hillsdale\, St. Eds. &amp\; Downtown Shopping - it is a great time\, we have great items AND it is all for a great cause!&nbsp\; We look forward to having you stop in and shop!</p>\n
LOCATION:Ashland Christian Health Center 380 East 4th Street
UID:e.1651.4195
SEQUENCE:3
DTSTAMP:20260420T122458Z
URL:https://members.ashlandoh.com/events/details/santa-s-attic-this-saturday-4195
END:VEVENT

END:VCALENDAR
