BEGIN:VCALENDAR
VERSION:2.0
PRODID:-//ChamberMaster//Event Calendar 2.0//EN
METHOD:PUBLISH
X-PUBLISHED-TTL:P3D
REFRESH-INTERVAL:P3D
CALSCALE:GREGORIAN
BEGIN:VEVENT
DTSTART:20140702T120000Z
DTEND:20140702T160000Z
X-MICROSOFT-CDO-ALLDAYEVENT:FALSE
SUMMARY:SC Sponsor 2014-15 Class
DESCRIPTION:Welcome to the Ashland Safety Council program co-sponsored by the Ashland Chamber and the Ohio Bureau of Workers' Compensation Division of Safety and Hygiene. The Ashland Area Safety Council is one of over 80 Safety Councils in the state of Ohio.\n\nThe Ashland Area Safety Council will meet the 2nd Wednesday of every month\, unless otherwise indicated\, at Samaritan on Main located at 663 E. Main St.\, in Ashland\, OH.\n\n\n	Meeting Time: 11:30 am  1:00 pm\n	Networking begins at 11:15 am\n	Lunch is served at 11:25 AM\n	Meeting begins 11:35 am. Ends 1:00 pm
X-ALT-DESC;FMTTYPE=text/html:<br />\n<strong>Welcome to the Ashland Safety Council program co-sponsored by the Ashland Chamber and the Ohio Bureau of Workers&#39\; Compensation Division of Safety and Hygiene. The Ashland Area Safety Council is one of over 80 Safety Councils in the state of Ohio.</strong>\n\n<p>The Ashland Area Safety Council will meet the 2nd Wednesday of every month\, unless otherwise indicated\, at Samaritan on Main located at 663 E. Main St.\, in Ashland\, OH.</p>\n\n<ul>\n	<li><span style="color:#cc6600\;"><span class="header3">Meeting Time</span>: 11:30 am &mdash\;1:00 pm</span></li>\n	<li><span style="color:#cc6600\;"><span class="header3">Networking</span> begins at 11:15 am</span></li>\n	<li><span style="color:#cc6600\;"><span class="header3">Lunch</span> is served at 11:25 AM</span></li>\n	<li><span style="color:#cc6600\;"><span class="header3">Meeting</span> begins 11:35 am. Ends 1:00 pm</span></li>\n</ul>\n
LOCATION:
UID:e.1651.1420
SEQUENCE:3
DTSTAMP:20260422T103929Z
URL:https://members.ashlandoh.com/events/details/sc-sponsor-2014-15-class-07-02-2014-1420
END:VEVENT

END:VCALENDAR
