BEGIN:VCALENDAR
VERSION:2.0
PRODID:-//ChamberMaster//Event Calendar 2.0//EN
METHOD:PUBLISH
X-PUBLISHED-TTL:P3D
REFRESH-INTERVAL:P3D
CALSCALE:GREGORIAN
BEGIN:VEVENT
DTSTART:20161118T140000Z
DTEND:20161118T160000Z
X-MICROSOFT-CDO-ALLDAYEVENT:FALSE
SUMMARY:Self Defense Class Morning Session 11-18-16
DESCRIPTION:Ashland Safety Council and Town & Country Co-Op are sponsoring a Self-Defense Class for your Employees!\n\n\n\nWelcome instructor Ken Dyer - Defensive Tactics instructor for the State of Ohio for 16 years / Earned to stripe Brown Belt in Shingitai Jiu-Jitsue and a Black Belt in Combative Arts through Cooper Fighting Arts\n\nYOU WILL LEARN:\n\nWays to prevent attacks\n\nGood self-defense techniques\n\nHow to handle a variety of physical confrontations from an attacker (chokes\, grabs\, strikes etc.)\n\n\n\nThere will be an afternoon class  (1:00-3:00 pm) as well. Each class is limited to 20 people. Class will count as a Safety Council Bonus Meeting.
X-ALT-DESC;FMTTYPE=text/html:<span style="font-size:16px\;"><strong>Ashland Safety Council and Town &amp\; Country Co-Op are sponsoring a Self-Defense Class for your Employees!</strong></span><br />\n<br />\n<em>Welcome instructor Ken Dyer - Defensive Tactics instructor for the State of Ohio for 16 years / Earned to stripe Brown Belt in Shingitai Jiu-Jitsue and a Black Belt in Combative Arts through Cooper Fighting Arts</em><br />\n<u><strong>YOU WILL LEARN:</strong></u><br />\nWays to prevent attacks<br />\nGood self-defense techniques<br />\nHow to handle a variety of physical confrontations from an attacker (chokes\, grabs\, strikes etc.)<br />\n<br />\n<span style="color:#FF0000\;"><em><strong><a href="http://www.ashlandoh.com/events/details/self-defense-class-pm-11-18-16-4193">There will be an afternoon class&nbsp\; (1:00-3:00 pm) as well.</a> Each class is limited to 20 people. Class will count as a Safety Council Bonus Meeting.</strong></em></span>
LOCATION:Town & Country Co-op Offices 813 Clark Ave.Ashland OH 44805
UID:e.1651.4192
SEQUENCE:3
DTSTAMP:20260420T103627Z
URL:https://members.ashlandoh.com/events/details/self-defense-class-morning-session-11-18-16-4192
END:VEVENT

END:VCALENDAR
