BEGIN:VCALENDAR
VERSION:2.0
PRODID:-//ChamberMaster//Event Calendar 2.0//EN
METHOD:PUBLISH
X-PUBLISHED-TTL:P3D
REFRESH-INTERVAL:P3D
CALSCALE:GREGORIAN
BEGIN:VEVENT
DTSTART:20130416T113000Z
DTEND:20130416T200000Z
X-MICROSOFT-CDO-ALLDAYEVENT:FALSE
SUMMARY:SENIOR BUS TOUR
DESCRIPTION:Participants meet at Buehler's back parking lot off of George Rd.\, Ashland OH\n\n	\n\n	TOUR SCHEDULE\n\n	7:50 am                         Meet and Board Bus\n\n	8:00 - 9:00 am              Schoonover Industries\n\n	                                         - Tour\n\n	9:15 - 10:15 am            Lutheran Village\n\n	                                         (Breakfast)\n\n	10:25 - 11:15 am          Ohio Tool Works\, Inc. - Tour\n\n	11:50am - 1:20 pm       Kingston of Ashland (Lunch)\n\n	1:30 - 2:30 pm               BookMasters - Tour\n\n	2:50 - 3:50 pm               Buehler's "Behind the\n\n	                                          Scenes" Tour\n\n	                                          (Refreshments & Dismissal)\n\n	\n\n	Registration:\n\n	To register for this event or find out more information\, contact Becky Echelberger at: 419-281-0476 or by email at echdb@zoominternet. net\n\n	\n\n	IMPORTANT NOTE:\n\n	Registrations are taken on a first come/first served basis. Deadline for this tour is Tuesday\, April 9\, 2013.\n\n	\n\n	BUS SPONSORS:\n\n	Colonial Manor Health Care Center\n\n	Crystal Care Center\n\n	Lutheran Social Services\n\n	\n\n	LUNCH SPONSORS:\n\n	Kingston of Ashland\n\n	\n\n	REFRESHMENT SPONSOR:\n\n	Buehler's Fresh Foods
X-ALT-DESC;FMTTYPE=text/html:<p>\n	Participants meet at Buehler&#39\;s back parking lot off of George Rd.\, Ashland OH<br />\n	<br />\n	<span style="color:#008080\;"><span style="font-size: 16px\;"><span style="font-family: comic sans ms\;"><strong>TOUR SCHEDULE</strong></span></span></span><br />\n	7:50 am&nbsp\;&nbsp\;&nbsp\;&nbsp\;&nbsp\;&nbsp\;&nbsp\;&nbsp\;&nbsp\;&nbsp\;&nbsp\;&nbsp\;&nbsp\;&nbsp\;&nbsp\;&nbsp\;&nbsp\;&nbsp\;&nbsp\;&nbsp\;&nbsp\;&nbsp\;&nbsp\;&nbsp\; Meet and Board Bus<br />\n	8:00 - 9:00 am&nbsp\;&nbsp\;&nbsp\;&nbsp\;&nbsp\;&nbsp\;&nbsp\;&nbsp\;&nbsp\;&nbsp\;&nbsp\; &nbsp\; Schoonover Industries<br />\n	&nbsp\;&nbsp\;&nbsp\;&nbsp\;&nbsp\;&nbsp\;&nbsp\;&nbsp\;&nbsp\;&nbsp\;&nbsp\;&nbsp\;&nbsp\;&nbsp\;&nbsp\;&nbsp\;&nbsp\;&nbsp\;&nbsp\;&nbsp\;&nbsp\;&nbsp\;&nbsp\;&nbsp\;&nbsp\;&nbsp\;&nbsp\;&nbsp\;&nbsp\;&nbsp\;&nbsp\;&nbsp\;&nbsp\;&nbsp\;&nbsp\;&nbsp\;&nbsp\;&nbsp\;&nbsp\;&nbsp\; - Tour<br />\n	9:15 - 10:15 am&nbsp\;&nbsp\; &nbsp\; &nbsp\; &nbsp\; &nbsp\;&nbsp\; Lutheran Village<br />\n	&nbsp\;&nbsp\;&nbsp\;&nbsp\;&nbsp\;&nbsp\;&nbsp\;&nbsp\;&nbsp\;&nbsp\;&nbsp\;&nbsp\;&nbsp\;&nbsp\;&nbsp\;&nbsp\;&nbsp\;&nbsp\;&nbsp\;&nbsp\;&nbsp\;&nbsp\;&nbsp\;&nbsp\;&nbsp\;&nbsp\;&nbsp\;&nbsp\;&nbsp\;&nbsp\;&nbsp\;&nbsp\;&nbsp\;&nbsp\;&nbsp\;&nbsp\;&nbsp\;&nbsp\;&nbsp\;&nbsp\; (Breakfast)<br />\n	10:25 - 11:15 am&nbsp\;&nbsp\;&nbsp\;&nbsp\;&nbsp\;&nbsp\;&nbsp\; &nbsp\; Ohio Tool Works\, Inc. - Tour<br />\n	11:50am - 1:20 pm&nbsp\;&nbsp\;&nbsp\;&nbsp\; &nbsp\; Kingston of Ashland (Lunch)<br />\n	1:30 - 2:30 pm&nbsp\;&nbsp\;&nbsp\;&nbsp\;&nbsp\;&nbsp\;&nbsp\;&nbsp\;&nbsp\;&nbsp\;&nbsp\;&nbsp\; &nbsp\; BookMasters - Tour<br />\n	2:50 - 3:50 pm&nbsp\;&nbsp\;&nbsp\;&nbsp\;&nbsp\;&nbsp\;&nbsp\;&nbsp\;&nbsp\;&nbsp\;&nbsp\;&nbsp\; &nbsp\; Buehler&#39\;s &quot\;Behind the<br />\n	&nbsp\;&nbsp\;&nbsp\;&nbsp\;&nbsp\;&nbsp\;&nbsp\;&nbsp\;&nbsp\;&nbsp\;&nbsp\;&nbsp\;&nbsp\;&nbsp\;&nbsp\;&nbsp\;&nbsp\;&nbsp\;&nbsp\;&nbsp\;&nbsp\;&nbsp\;&nbsp\;&nbsp\;&nbsp\;&nbsp\;&nbsp\;&nbsp\;&nbsp\;&nbsp\;&nbsp\;&nbsp\;&nbsp\;&nbsp\;&nbsp\;&nbsp\;&nbsp\;&nbsp\;&nbsp\; &nbsp\; Scenes&quot\; Tour<br />\n	&nbsp\;&nbsp\;&nbsp\;&nbsp\;&nbsp\;&nbsp\;&nbsp\;&nbsp\;&nbsp\;&nbsp\;&nbsp\;&nbsp\;&nbsp\;&nbsp\;&nbsp\;&nbsp\;&nbsp\;&nbsp\;&nbsp\;&nbsp\;&nbsp\;&nbsp\;&nbsp\;&nbsp\;&nbsp\;&nbsp\;&nbsp\; &nbsp\; &nbsp\; &nbsp\; &nbsp\; &nbsp\; &nbsp\; &nbsp\; (Refreshments &amp\; Dismissal)<br />\n	<br />\n	<span style="color:#008080\;"><span style="font-size: 14px\;"><strong>Registration:</strong></span></span><br />\n	To register for this event or find out more information\, contact Becky Echelberger at: 419-281-0476 or by email at <a href="mailto:echdb@zoominternet.net?subject=Chamber%20Senior%20Bus%20Tour&amp\;body=I%20am%20interested%20in%20registering%20for%20this%20event%20or%20receiving%20more%20information">echdb@zoominternet. net</a><br />\n	<br />\n	<strong>IMPORTANT NOTE:</strong><br />\n	Registrations are taken on a first come/first served basis. Deadline for this tour is Tuesday\, April 9\, 2013.<br />\n	<br />\n	<span style="color:#a52a2a\;"><strong><span style="font-size: 14px\;">BUS SPONSORS:</span></strong></span><br />\n	Colonial Manor Health Care Center<br />\n	Crystal Care Center<br />\n	Lutheran Social Services<br />\n	<br />\n	<span style="color:#a52a2a\;"><span style="font-size: 14px\;"><strong>LUNCH SPONSORS:</strong></span></span><br />\n	Kingston of Ashland<br />\n	<br />\n	<span style="font-size:14px\;"><span style="color: rgb(165\, 42\, 42)\;"><strong>REFRESHMENT SPONSOR:</strong></span></span><br />\n	Buehler&#39\;s Fresh Foods</p>\n
LOCATION:Buehler's Fresh Foods 1055 Sugarbush Dr\, Ashland OH
UID:e.1651.568
SEQUENCE:3
DTSTAMP:20260423T114709Z
URL:https://members.ashlandoh.com/events/details/senior-bus-tour-04-16-2013-568
END:VEVENT

END:VCALENDAR
