BEGIN:VCALENDAR
VERSION:2.0
PRODID:-//ChamberMaster//Event Calendar 2.0//EN
METHOD:PUBLISH
X-PUBLISHED-TTL:P3D
REFRESH-INTERVAL:P3D
CALSCALE:GREGORIAN
BEGIN:VEVENT
DTSTART:20140602T160000Z
DTEND:20140602T163000Z
X-MICROSOFT-CDO-ALLDAYEVENT:FALSE
SUMMARY:Shanks Bar & Grill - Ribbon Cutting Ceremony 6-2-14
DESCRIPTION:SHANKS BAR & GRILL\n\nCome and welcome this new Ashland restaurant!
X-ALT-DESC;FMTTYPE=text/html:<span style="font-size:14px\;"><strong>SHANKS BAR &amp\; GRILL</strong></span><br />\nCome and welcome this new Ashland restaurant!
LOCATION:1333 Center Street Ashland\, Oh 44805
UID:e.1651.1478
SEQUENCE:3
DTSTAMP:20260422T122625Z
URL:https://members.ashlandoh.com/events/details/shanks-bar-grill-ribbon-cutting-ceremony-6-2-14-06-02-2014-1478
END:VEVENT

END:VCALENDAR
