BEGIN:VCALENDAR
VERSION:2.0
PRODID:-//ChamberMaster//Event Calendar 2.0//EN
METHOD:PUBLISH
X-PUBLISHED-TTL:P3D
REFRESH-INTERVAL:P3D
CALSCALE:GREGORIAN
BEGIN:VEVENT
DTSTART:20120612T113000Z
DTEND:20120612T130000Z
X-MICROSOFT-CDO-ALLDAYEVENT:FALSE
SUMMARY:Small Business Spotlight Extravaganza
DESCRIPTION:
X-ALT-DESC;FMTTYPE=text/html:
LOCATION:Bill Harris Dealerships
UID:e.1651.208
SEQUENCE:3
DTSTAMP:20260423T102217Z
URL:https://members.ashlandoh.com/events/details/small-business-spotlight-extravaganza-06-12-2012-208
END:VEVENT

END:VCALENDAR
