BEGIN:VCALENDAR
VERSION:2.0
PRODID:-//ChamberMaster//Event Calendar 2.0//EN
METHOD:PUBLISH
X-PUBLISHED-TTL:P3D
REFRESH-INTERVAL:P3D
CALSCALE:GREGORIAN
BEGIN:VEVENT
DTSTART:20130820T140000Z
DTEND:20130820T143000Z
X-MICROSOFT-CDO-ALLDAYEVENT:FALSE
SUMMARY:Sparkleez Ribbon Cutting/ Grand Opening
DESCRIPTION:Ribbon Cutting Ceremony for Sparkleez Crystals
X-ALT-DESC;FMTTYPE=text/html:Ribbon Cutting Ceremony for Sparkleez Crystals
LOCATION:New location - Main Street
UID:e.1651.877
SEQUENCE:3
DTSTAMP:20260423T070413Z
URL:https://members.ashlandoh.com/events/details/sparkleez-ribbon-cutting-grand-opening-08-20-2013-877
END:VEVENT

END:VCALENDAR
