BEGIN:VCALENDAR
VERSION:2.0
PRODID:-//ChamberMaster//Event Calendar 2.0//EN
METHOD:PUBLISH
X-PUBLISHED-TTL:P3D
REFRESH-INTERVAL:P3D
CALSCALE:GREGORIAN
BEGIN:VEVENT
DTSTART:20140306T220000Z
DTEND:20140306T223000Z
X-MICROSOFT-CDO-ALLDAYEVENT:FALSE
SUMMARY:Special - VIP Reception
DESCRIPTION:This VIP Reception will take place right before the Annual Member Awards Banquet begins. CEOs from our "Visionary Level" Members along with other important community members will be part of this special event.\n\n\n\nFor more information about this\, please contact the Chamber office at (419) 281-4584 or email us at chamber@ashlandoh.com
X-ALT-DESC;FMTTYPE=text/html:<strong>This VIP Reception </strong>will take place right before the Annual Member Awards Banquet begins. CEOs from our &quot\;Visionary Level&quot\; Members along with other important community members will be part of this special event.<br />\n<br />\nFor more information about this\, please contact the Chamber office at (419) 281-4584 or email us at <strong><a href="mailto:chamber@ashlandoh.com?subject=VIP%20Reception%20-%20Annual%20Member%20Awards%20Banquet&amp\;body=I%20am%20interested%20in%20learning%20more%20about%20this%20event.">chamber@ashlandoh.com</a></strong>
LOCATION:Ashland University Convocation Center - Alumni Room 638 Jefferson St.\, Ashland\, Oh 44805
UID:e.1651.1380
SEQUENCE:3
DTSTAMP:20260422T173512Z
URL:https://members.ashlandoh.com/events/details/special-vip-reception-03-06-2014-1380
END:VEVENT

END:VCALENDAR
