BEGIN:VCALENDAR
VERSION:2.0
PRODID:-//ChamberMaster//Event Calendar 2.0//EN
METHOD:PUBLISH
X-PUBLISHED-TTL:P3D
REFRESH-INTERVAL:P3D
CALSCALE:GREGORIAN
BEGIN:VEVENT
DTSTART:20160927T230000Z
DTEND:20160928T003000Z
X-MICROSOFT-CDO-ALLDAYEVENT:FALSE
SUMMARY:State of Agriculture - 9-27-16
DESCRIPTION:"STATE OF" EVENT SERIES\n\nProvides a format for updates on important\, local\, state and national issues\n\n\n\nTOPIC: State of Agriculture Address\n\nSPEAKER: John Buck - Farmer & Owner of TurnKey Leadership Group\n\nTIME: 7:00 - 8:30 pm\n\nPLACE: AU Convocation Center    \n\nCOST: Free - open to the public\n\nSponsored by: Huntington National Bank\n\n\n\nClick here for an event flyer
X-ALT-DESC;FMTTYPE=text/html:<span style="color:#000080\;"><strong>&quot\;STATE OF&quot\; EVENT SERIES</strong></span><br />\nProvides a format for updates on important\, local\, state and national issues<br />\n<br />\n<strong>TOPIC:</strong> State of Agriculture Address<br />\n<strong>SPEAKER:</strong> John Buck - Farmer &amp\; Owner of TurnKey Leadership Group<br />\n<strong>TIME: </strong>7:00 - 8:30 pm<br />\n<strong>PLACE:</strong> AU Convocation Center&nbsp\;&nbsp\;&nbsp\;&nbsp\;<br />\n<strong>COST:</strong> Free - open to the public<br />\n<strong><em>Sponsored by</em>: Huntington National Bank<br />\n<br />\n<a href="https://chambermaster.blob.core.windows.net/userfiles/UserFiles/chambers/1651/File/Events/StateofAgriculture9-27-16HuntingtonSponsor-EventFlyerpub.pdf" target="_blank">Click here</a> for an event flyer</strong>
LOCATION:Ashland University Convocation Center 638 Jefferson St.\, Ashland OH 44805
UID:e.1651.2523
SEQUENCE:3
DTSTAMP:20260420T140324Z
URL:https://members.ashlandoh.com/events/details/state-of-agriculture-9-27-16-09-27-2016-2523
END:VEVENT

END:VCALENDAR
