BEGIN:VCALENDAR
VERSION:2.0
PRODID:-//ChamberMaster//Event Calendar 2.0//EN
METHOD:PUBLISH
X-PUBLISHED-TTL:P3D
REFRESH-INTERVAL:P3D
CALSCALE:GREGORIAN
BEGIN:VEVENT
DTSTART:20160224T000000Z
DTEND:20160224T013000Z
X-MICROSOFT-CDO-ALLDAYEVENT:FALSE
SUMMARY:State of Ashland Schine's Theater Organization 2-23-16
DESCRIPTION:"STATE OF" EVENT SERIES\n\nProvides a format for updates on important\, local\, state and national issues\n\n\n\nTOPIC: State of Ashland Schine's Theater Organization\n\nSPEAKER: Bill Sample and other Schine's Directors\n\nTIME: 7:00 - 8:30 pm\n\nPLACE: AU Convocation Center\n\nSPONSOR: Donley Ford - Lincoln of Ashland   \n\nOpen to the Public
X-ALT-DESC;FMTTYPE=text/html:<strong>&quot\;STATE OF&quot\; EVENT SERIES</strong><br />\nProvides a format for updates on important\, local\, state and national issues<br />\n<br />\nTOPIC: State of Ashland Schine&#39\;s Theater Organization<br />\nSPEAKER: Bill Sample and other Schine&#39\;s Directors<br />\nTIME: 7:00 - 8:30 pm<br />\nPLACE: AU Convocation Center<br />\nSPONSOR: Donley Ford - Lincoln of Ashland &nbsp\;&nbsp\;<br />\n<em>Open to the Public</em><br />\n&nbsp\;
LOCATION:Ashland University Convocation Center 638 Jefferson St.\, Ashland OH 44805
UID:e.1651.2519
SEQUENCE:3
DTSTAMP:20260421T021703Z
URL:https://members.ashlandoh.com/events/details/state-of-ashland-schine-s-theater-organization-2-23-16-02-23-2016-2519
END:VEVENT

END:VCALENDAR
