BEGIN:VCALENDAR
VERSION:2.0
PRODID:-//ChamberMaster//Event Calendar 2.0//EN
METHOD:PUBLISH
X-PUBLISHED-TTL:P3D
REFRESH-INTERVAL:P3D
CALSCALE:GREGORIAN
BEGIN:VEVENT
DTSTART:20160127T000000Z
DTEND:20160127T013000Z
X-MICROSOFT-CDO-ALLDAYEVENT:FALSE
SUMMARY:State of Downtown / Ashland Main Street 1-26-16
DESCRIPTION:"STATE OF" EVENT SERIES\n\nProvides a format for updates on important\, local\, state and national issues\n\n\n\nTOPIC: State of Downtown / Ashland Main Street\n\nSPEAKER: Sandra Tunnell - AMS\n\nTIME: 7:00 - 8:30 pm\n\nPLACE: AU Convocation Center    \n\nCOST: Free - open to the public
X-ALT-DESC;FMTTYPE=text/html:<span style="color:#000080\;"><strong>&quot\;STATE OF&quot\; EVENT SERIES</strong></span><br />\nProvides a format for updates on important\, local\, state and national issues<br />\n<br />\n<strong>TOPIC:</strong> State of Downtown / Ashland Main Street<br />\n<strong>SPEAKER:</strong> Sandra Tunnell - AMS<br />\n<strong>TIME:</strong> 7:00 - 8:30 pm<br />\n<strong>PLACE:</strong> AU Convocation Center&nbsp\;&nbsp\;&nbsp\;&nbsp\;<br />\n<strong>COST: </strong>Free - open to the public<br />\n&nbsp\;
LOCATION:Ashland University Convocation Center 638 Jefferson St.\, Ashland OH 44805
UID:e.1651.2518
SEQUENCE:3
DTSTAMP:20260421T041014Z
URL:https://members.ashlandoh.com/events/details/state-of-downtown-ashland-main-street-1-26-16-01-26-2016-2518
END:VEVENT

END:VCALENDAR
