BEGIN:VCALENDAR
VERSION:2.0
PRODID:-//ChamberMaster//Event Calendar 2.0//EN
METHOD:PUBLISH
X-PUBLISHED-TTL:P3D
REFRESH-INTERVAL:P3D
CALSCALE:GREGORIAN
BEGIN:VEVENT
DTSTART:20160308T000000Z
DTEND:20160308T023000Z
X-MICROSOFT-CDO-ALLDAYEVENT:FALSE
SUMMARY:State of Elections - Meet the Candidates 2016
DESCRIPTION:You asked - We delivered! \n\nThis Election Year is a crucial one for our Country. We invited all candidates\, running in the March 15\, 2016 Primary\, to participate in our State of Elections - Meet the Candidate night.\n\n\n\nThis forum is designed to let you hear from the candidates and ask questions so that you will be an informed voter. Don't miss this important event!\n\n\n\nHow To Be An Informed Voter PDF
X-ALT-DESC;FMTTYPE=text/html:<span style="font-size:16px\;"><strong>You asked - We delivered!&nbsp\;</strong></span><br />\nThis Election Year is a crucial one for our Country. We invited all candidates\, running in the March 15\, 2016 Primary\, to participate in our State of Elections - Meet the Candidate night.<br />\n<br />\nThis forum is designed to let you hear from the candidates and ask questions so that you will be an informed voter. Don&#39\;t miss this important event!<br />\n<br />\n<span style="font-size:14px\;"><strong><span style="background-color: rgb(255\, 255\, 0)\;"><a href="https://chambermaster.blob.core.windows.net/userfiles/UserFiles/chambers/1651/File/Advocacy/HowtobeanInformedVoter.pdf">How To Be An Informed Voter PDF</a> </span></strong></span>
LOCATION:AU John C. Myers Convocation Center 638 Jefferson Street\, Ashland Ohio
UID:e.1651.2577
SEQUENCE:3
DTSTAMP:20260421T021419Z
URL:https://members.ashlandoh.com/events/details/state-of-elections-meet-the-candidates-2016-03-07-2016-2577
END:VEVENT

END:VCALENDAR
