BEGIN:VCALENDAR
VERSION:2.0
PRODID:-//ChamberMaster//Event Calendar 2.0//EN
METHOD:PUBLISH
X-PUBLISHED-TTL:P3D
REFRESH-INTERVAL:P3D
CALSCALE:GREGORIAN
BEGIN:VEVENT
DTSTART:20160707T230000Z
DTEND:20160708T003000Z
X-MICROSOFT-CDO-ALLDAYEVENT:FALSE
SUMMARY:State of the State - 7-7-16
DESCRIPTION:"STATE OF" EVENT SERIES\n\nProvides a format for updates on important\, local\, state and national issues\n\n\n\nTOPIC: State of the State Address\n\nSPEAKER: Jon Husted - Ohio Secretary of State\n\nDATE: Thursday\, July 7\, 2016\n\nTIME: 7:00 - 8:30 pm\n\nPLACE: Ashland County Sheriff's Annex - 1205 E. Main St.\n\nCOST: Free - open to the public\n\nSPONSOR: Critchfield\, Critchfield & Johnston\, LLC
X-ALT-DESC;FMTTYPE=text/html:<span style="font-size:14px\;"><strong>&quot\;STATE OF&quot\; EVENT SERIES</strong></span><br />\nProvides a format for updates on important\, local\, state and national issues<br />\n<br />\n<strong>TOPIC:</strong> State of the State Address<br />\n<strong>SPEAKER:</strong> Jon Husted - Ohio Secretary of State<br />\n<strong>DATE:</strong> Thursday\, July 7\, 2016<br />\n<strong>TIME:</strong> 7:00 - 8:30 pm<br />\n<strong>PLACE:</strong> Ashland County Sheriff&#39\;s Annex - 1205 E. Main St.<br />\n<strong>COST: </strong>Free - open to the public<br />\nSPONSOR: Critchfield\, Critchfield &amp\; Johnston\, LLC<br />\n&nbsp\;
LOCATION:Sheriff's Annex 1205 E Main St. Ashland OH 44805
UID:e.1651.2521
SEQUENCE:3
DTSTAMP:20260420T173121Z
URL:https://members.ashlandoh.com/events/details/state-of-the-state-7-7-16-07-07-2016-2521
END:VEVENT

END:VCALENDAR
