BEGIN:VCALENDAR
VERSION:2.0
PRODID:-//ChamberMaster//Event Calendar 2.0//EN
METHOD:PUBLISH
X-PUBLISHED-TTL:P3D
REFRESH-INTERVAL:P3D
CALSCALE:GREGORIAN
BEGIN:VEVENT
DTSTART:20160614T230000Z
DTEND:20160615T003000Z
X-MICROSOFT-CDO-ALLDAYEVENT:FALSE
SUMMARY:State of: UH Samaritan Medical Center
DESCRIPTION:"STATE OF" EVENT SERIES\n\nProvides a format for updates on important\, local\, state and national issues\n\n\n\nTOPIC: UH Samaritan Medical Center\n\nSPEAKER: Dr. Daniel Simon - President of Case Medical Center\n\nTIME: 7:00 - 8:30 pm\n\nPLACE: Salvation Army Kroc Center  \n\nCOST: Free - open to the public
X-ALT-DESC;FMTTYPE=text/html:<strong>&quot\;STATE OF&quot\; EVENT SERIES</strong><br />\nProvides a format for updates on important\, local\, state and national issues<br />\n<br />\n<strong>TOPIC: </strong>UH Samaritan Medical Center<br />\n<strong>SPEAKER:</strong> Dr. Daniel Simon - President of Case Medical Center<br />\n<strong>TIME: </strong>7:00 - 8:30 pm<br />\n<strong>PLACE</strong>: Salvation Army Kroc Center &nbsp\;<br />\n<strong>COST: </strong>Free - open to the public<br />\n&nbsp\;
LOCATION:Salvation Army Kroc Center 527 E Liberty St.\, Ashland OH 44805
UID:e.1651.2520
SEQUENCE:3
DTSTAMP:20260420T190655Z
URL:https://members.ashlandoh.com/events/details/state-of-uh-samaritan-medical-center-06-14-2016-2520
END:VEVENT

END:VCALENDAR
