BEGIN:VCALENDAR
VERSION:2.0
PRODID:-//ChamberMaster//Event Calendar 2.0//EN
METHOD:PUBLISH
X-PUBLISHED-TTL:P3D
REFRESH-INTERVAL:P3D
CALSCALE:GREGORIAN
BEGIN:VEVENT
DTSTART:20260624T170000Z
DTEND:20260624T180000Z
X-MICROSOFT-CDO-ALLDAYEVENT:FALSE
SUMMARY:StorageRed Ribbon Cutting & Open House
DESCRIPTION:We're excited to invite our Chamber community to a special Ribbon Cutting Ceremony and Open House at StorageRed on Wednesday\, June 24th from 1 2 PM! Join us at 1220 US 42\, Ashland\, OH\, to tour this clean\, secure storage facility offering 24-hour access and friendly service. In addition to traditional storage units\, StorageRed   Ashland also provides convenient RV\, car\, and boat storage with a variety of parking sizes to fit your needs. Come see the property\, learn more about their offerings\, and help us celebrate their new Ashland location with a ceremonial ribbon cutting. We hope to see you there!
X-ALT-DESC;FMTTYPE=text/html:We&rsquo\;re excited to invite our Chamber community to a special Ribbon Cutting Ceremony and Open House at StorageRed on Wednesday\, June 24th from 1&ndash\;2 PM! Join us at 1220 US 42\, Ashland\, OH\, to tour this clean\, secure storage facility offering 24-hour access and friendly service. In addition to traditional storage units\, StorageRed &ndash\; Ashland also provides convenient RV\, car\, and boat storage with a variety of parking sizes to fit your needs. Come see the property\, learn more about their offerings\, and help us celebrate their new Ashland location with a ceremonial ribbon cutting. We hope to see you there!
LOCATION:StorageRed - Ashland 1220 US 42 Ashland\, OH 44805
UID:e.1651.6516
SEQUENCE:3
DTSTAMP:20260423T084022Z
URL:https://members.ashlandoh.com/events/details/storagered-ribbon-cutting-open-house-6516
END:VEVENT

END:VCALENDAR
