BEGIN:VCALENDAR
VERSION:2.0
PRODID:-//ChamberMaster//Event Calendar 2.0//EN
METHOD:PUBLISH
X-PUBLISHED-TTL:P3D
REFRESH-INTERVAL:P3D
CALSCALE:GREGORIAN
BEGIN:VEVENT
DTSTART;VALUE=DATE:20141022
DTEND;VALUE=DATE:20141025
TRANSP:TRANSPARENT
X-MICROSOFT-CDO-ALLDAYEVENT:TRUE
SUMMARY:The 2014 COSE Small Business Convention
DESCRIPTION:CURRENT:  Small Business Convention   call for speakers Deadline May 12!\n\n2014 Small Business Convention is coming!\n\nSave the date for the largest small business convention in the Midwest\, October 22-24. Co-sponsored by the COSE Small Business Convention brings entrepreneurs together to hear national keynote speakers\, take advantage of educational workshops and network with peers.
X-ALT-DESC;FMTTYPE=text/html:<strong>CURRENT:&nbsp\; Small Business Convention &ndash\; call for speakers Deadline May 12!<br />\n2014 Small Business Convention is coming!</strong><br />\nSave the date for the largest small business convention in the Midwest\, October 22-24. Co-sponsored by the COSE Small Business Convention brings entrepreneurs together to hear national keynote speakers\, take advantage of educational workshops and network with peers.<br />\n<br />\n<br />\n&nbsp\;
LOCATION:Kalahari Resort\, Sandusky\, OH Kalahari Resorts Website (877) 525-2427 7000 Kalahari Dr\, Sandusky Directions
UID:e.1651.1475
SEQUENCE:3
DTSTAMP:20260422T060430Z
URL:https://members.ashlandoh.com/events/details/the-2014-cose-small-business-convention-10-22-2014-1475
END:VEVENT

END:VCALENDAR
