BEGIN:VCALENDAR
VERSION:2.0
PRODID:-//ChamberMaster//Event Calendar 2.0//EN
METHOD:PUBLISH
X-PUBLISHED-TTL:P3D
REFRESH-INTERVAL:P3D
CALSCALE:GREGORIAN
BEGIN:VEVENT
DTSTART:20161021T233000Z
DTEND:20161029T233000Z
X-MICROSOFT-CDO-ALLDAYEVENT:FALSE
SUMMARY:The Autumn Garden
DESCRIPTION:by Lillian Hellman directed by Teresa Durbin-Ames Ashland University Theatre presents: A drama with humor\, sharpness\, integrity and toughness is set at an annual reunion of old acquaintances in their 40s who reflect on their misspent lives\, paralyzing regrets and realization that life isn't what everyone thought it would be. It is about being honest with yourself and creating an identity that you can live with.
X-ALT-DESC;FMTTYPE=text/html:by Lillian Hellman directed by Teresa Durbin-Ames Ashland University Theatre presents: A drama with humor\, sharpness\, integrity and toughness is set at an annual reunion of old acquaintances in their 40s who reflect on their misspent lives\, paralyzing regrets and realization that life isn&rsquo\;t what everyone thought it would be. It is about being honest with yourself and creating an identity that you can live with.
LOCATION:Hugo Young Theatre at Ashland University 331 College Avenue Ashland OH 44805
UID:e.1651.4188
SEQUENCE:3
DTSTAMP:20260420T121254Z
URL:https://members.ashlandoh.com/events/details/the-autumn-garden-4188
END:VEVENT

END:VCALENDAR
