BEGIN:VCALENDAR
VERSION:2.0
PRODID:-//ChamberMaster//Event Calendar 2.0//EN
METHOD:PUBLISH
X-PUBLISHED-TTL:P3D
REFRESH-INTERVAL:P3D
CALSCALE:GREGORIAN
BEGIN:VEVENT
DTSTART:20150912T140000Z
DTEND:20150912T190000Z
X-MICROSOFT-CDO-ALLDAYEVENT:FALSE
SUMMARY:Town & Country Co-Op
DESCRIPTION:WE HAVE A NEW STORE!\n\nCome and visit our new location and see all that we have to offer.\n\nWe will be hosting an Open House and Ribbon Cutting Ceremony and you are invited.\n\nEVENT DETAILS:\n\nDate:   Saturday\, September 12\, 2015\n\nTime:   Ribbon Cutting - 11:00 am\n\n             Open House - 10:00 am - 3:00 pm\n\nPlace: 1290 Middle Rowsburg Rd.\n\n             Ashland OH 44805
X-ALT-DESC;FMTTYPE=text/html:<strong>WE HAVE A NEW STORE!</strong><br />\nCome and visit our new location and see all that we have to offer.<br />\nWe will be hosting an Open House and Ribbon Cutting Ceremony and you are invited.<br />\n<span style="color:#006400\;"><u><strong>EVENT DETAILS:</strong></u><br />\n<strong><em>Date:</em></strong>&nbsp\;&nbsp\; Saturday\, September 12\, 2015<br />\n<em><strong>Time:</strong></em>&nbsp\;&nbsp\; Ribbon Cutting - 11:00 am<br />\n&nbsp\;&nbsp\;&nbsp\;&nbsp\;&nbsp\;&nbsp\;&nbsp\;&nbsp\; &nbsp\;&nbsp\;&nbsp\; Open House - 10:00 am - 3:00 pm<br />\n<strong><em>Place: </em></strong>1290 Middle Rowsburg Rd.<br />\n&nbsp\;&nbsp\;&nbsp\;&nbsp\;&nbsp\;&nbsp\;&nbsp\;&nbsp\;&nbsp\;&nbsp\;&nbsp\;&nbsp\; Ashland OH 44805</span><br />\n&nbsp\;
LOCATION:TOWN & COUNTRY Ashland Retail 1290 Middle Rowsburg Rd Ashland OH 44805
UID:e.1651.2416
SEQUENCE:3
DTSTAMP:20260421T130117Z
URL:https://members.ashlandoh.com/events/details/town-country-co-op-09-12-2015-2416
END:VEVENT

END:VCALENDAR
