BEGIN:VCALENDAR
VERSION:2.0
PRODID:-//ChamberMaster//Event Calendar 2.0//EN
METHOD:PUBLISH
X-PUBLISHED-TTL:P3D
REFRESH-INTERVAL:P3D
CALSCALE:GREGORIAN
BEGIN:VEVENT
DTSTART:20150218T230000Z
DTEND:20150219T000000Z
X-MICROSOFT-CDO-ALLDAYEVENT:FALSE
SUMMARY:Tropical Costa Rica - Dessert and Details
DESCRIPTION:Join us for a Dessert & Details on the upcoming trip to Tropical Costa Rica (Travel dates: October 24   November 1\, 2015)\n\n\n	Date: Wednesday\, February 18\, 2015\n	Time: 6:00 - 7:00 pm\n	Location: Ashland Public Library - Lower Level
X-ALT-DESC;FMTTYPE=text/html:<strong>Join us for a Dessert &amp\; Details on the upcoming trip to Tropical Costa Rica</strong> (Travel dates: October 24 &ndash\; November 1\, 2015)\n\n<ul>\n	<li>Date: Wednesday\, February 18\, 2015</li>\n	<li>Time: 6:00 - 7:00 pm</li>\n	<li>Location: Ashland Public Library - Lower Level</li>\n</ul>\n
LOCATION:Ashland Public Library - Lower Level
UID:e.1651.2168
SEQUENCE:3
DTSTAMP:20260421T232420Z
URL:https://members.ashlandoh.com/events/details/tropical-costa-rica-dessert-and-details-02-18-2015-2168
END:VEVENT

END:VCALENDAR
