BEGIN:VCALENDAR
VERSION:2.0
PRODID:-//ChamberMaster//Event Calendar 2.0//EN
METHOD:PUBLISH
X-PUBLISHED-TTL:P3D
REFRESH-INTERVAL:P3D
CALSCALE:GREGORIAN
BEGIN:VEVENT
DTSTART:20151203T160000Z
DTEND:20151203T163000Z
X-MICROSOFT-CDO-ALLDAYEVENT:FALSE
SUMMARY:Truly Yours\, Fashion Boutique - Grand Opening and Ribbon Cutting 12-3-15
DESCRIPTION:Grand Opening & Ribbon Cutting Ceremony\n\nTruly Yours\, Fashion Boutique\n\n\n\nGrand Entrance Apparel
X-ALT-DESC;FMTTYPE=text/html:Grand Opening &amp\; Ribbon Cutting Ceremony<br />\nTruly Yours\, Fashion Boutique<br />\n<br />\nGrand Entrance Apparel<br />\n&nbsp\;
LOCATION:NEW Store Location: 105 B. West Main St.\, Ashland OH 44805
UID:e.1651.2502
SEQUENCE:3
DTSTAMP:20260421T060313Z
URL:https://members.ashlandoh.com/events/details/truly-yours-fashion-boutique-grand-opening-and-ribbon-cutting-12-3-15-12-03-2015-2502
END:VEVENT

END:VCALENDAR
