BEGIN:VCALENDAR
VERSION:2.0
PRODID:-//ChamberMaster//Event Calendar 2.0//EN
METHOD:PUBLISH
X-PUBLISHED-TTL:P3D
REFRESH-INTERVAL:P3D
CALSCALE:GREGORIAN
BEGIN:VEVENT
DTSTART:20140321T133000Z
DTEND:20140321T143000Z
X-MICROSOFT-CDO-ALLDAYEVENT:FALSE
SUMMARY:Wendy's - Grand Opening - Ribbon Cutting
DESCRIPTION:Come and celebrate the grand opening of the\n\nnew Wendy's Restaurant facility on Claremont!
X-ALT-DESC;FMTTYPE=text/html:<strong>Come and celebrate the grand opening of the<br />\nnew Wendy&#39\;s Restaurant facility on Claremont!</strong>
LOCATION:Look for the Wendy's sign.
UID:e.1651.1412
SEQUENCE:3
DTSTAMP:20260422T192110Z
URL:https://members.ashlandoh.com/events/details/wendy-s-grand-opening-ribbon-cutting-03-21-2014-1412
END:VEVENT

END:VCALENDAR
