BEGIN:VCALENDAR
VERSION:2.0
PRODID:-//ChamberMaster//Event Calendar 2.0//EN
METHOD:PUBLISH
X-PUBLISHED-TTL:P3D
REFRESH-INTERVAL:P3D
CALSCALE:GREGORIAN
BEGIN:VEVENT
DTSTART:20160601T150000Z
DTEND:20160601T170000Z
X-MICROSOFT-CDO-ALLDAYEVENT:FALSE
SUMMARY:WIB Summer Swishing 6-1-16
DESCRIPTION:SUMMERTIME SWISHING!\n\nJoin us for a fun filled luncheon with great food\, conversation and our favorite past time "Swishing". Bring your gently used summer items and trade them in for something new.\n\nDate: Wednesday\, June 1\, 2016\n\nTime: 11:00 am - 1:00 pm\n\nPlace: Bella Bleu's at Water's Edge - 170 Somerset Dr.\, Ashland\n\nCost $20 pp - Member / $30 pp - Non-Member\n\n\n\nSPECIAL NOTE: Rene' Spellman will be offering Premier Designs Jewelry for sale at this event. 20% of the proceeds will be donated to the A.C.C.E.S.S. Program. Cash & Carry or You Can Order at the event. Here is the link to her product catalog\, so you can get an idea of what you might want to purchase.\n\nhttp://renespellman.mypremierdesigns.com/\n\n\n\nWE LOOK FORWARD TO SEEING YOU THERE!
X-ALT-DESC;FMTTYPE=text/html:<strong>SUMMERTIME SWISHING!</strong><br />\nJoin us for a fun filled luncheon with great food\, conversation and our favorite past time &quot\;Swishing&quot\;. Bring your gently used summer items and trade them in for something new.<br />\nDate: Wednesday\, June 1\, 2016<br />\nTime: 11:00 am - 1:00 pm<br />\nPlace: Bella Bleu&#39\;s at Water&#39\;s Edge - 170 Somerset Dr.\, Ashland<br />\nCost $20 pp - Member / $30 pp - Non-Member<br />\n<br />\n<strong><span style="font-family:arial\,sans-serif\;"><span style="font-size:9.0pt\;">SPECIAL NOTE:</span></span></strong><em><span style="font-family:arial\,sans-serif\;"><span style="font-size:9.0pt\;"> Rene&#39\; Spellman will be offering Premier Designs Jewelry for sale at this event. 20% of the proceeds will be donated to the A.C.C.E.S.S. Program. Cash &amp\; Carry or You Can Order at the event. Here is the link to her product catalog\, so you can get an idea of what you might want to purchase.</span></span></em><br />\n<span style="font-family:comic sans ms\;"><span style="font-size:9.0pt\;"><a href="http://renespellman.mypremierdesigns.com/" target="_blank"><span style="color:purple\;">http://renespellman.mypremierdesigns.com/</span></a></span></span><br />\n<br />\n<strong><span style="font-size:10.5pt\;">WE LOOK FORWARD TO SEEING YOU THERE!</span></strong><br />\n&nbsp\;
LOCATION:Bella Bleu's 170 Somerset Dr. Ashland OH 44805
UID:e.1651.3580
SEQUENCE:3
DTSTAMP:20260420T190457Z
URL:https://members.ashlandoh.com/events/details/wib-summer-swishing-6-1-16-06-01-2016-3580
END:VEVENT

END:VCALENDAR
